BEGIN:VCALENDAR
VERSION:2.0
PRODID:-//Queenstown Baptist Church  女皇镇浸信教会 - ECPv6.15.20//NONSGML v1.0//EN
CALSCALE:GREGORIAN
METHOD:PUBLISH
X-ORIGINAL-URL:https://ionic.synology.me/qbcnx3
X-WR-CALDESC:Events for Queenstown Baptist Church  女皇镇浸信教会
REFRESH-INTERVAL;VALUE=DURATION:PT1H
X-Robots-Tag:noindex
X-PUBLISHED-TTL:PT1H
BEGIN:VTIMEZONE
TZID:Asia/Singapore
BEGIN:STANDARD
TZOFFSETFROM:+0800
TZOFFSETTO:+0800
TZNAME:+08
DTSTART:20270101T000000
END:STANDARD
END:VTIMEZONE
BEGIN:VEVENT
DTSTART;TZID=Asia/Singapore:20281101T200000
DTEND;TZID=Asia/Singapore:20281101T213000
DTSTAMP:20260422T020923
CREATED:20250731T080559Z
LAST-MODIFIED:20250731T080559Z
UID:10000634-1856721600-1856727000@ionic.synology.me
SUMMARY:P3 Prayer Night
DESCRIPTION:
URL:https://ionic.synology.me/qbcnx3/event/p3-prayer-night/2028-11-01/
LOCATION:Hall of Hope (L3)\, 495 Margaret Drive\, Singapore\, 149305\, Singapore
CATEGORIES:English,Prayer
ATTACH;FMTTYPE=image/jpeg:https://ionic.synology.me/qbcnx3/wp-content/uploads/2025/07/event-p3.jpg
END:VEVENT
BEGIN:VEVENT
DTSTART;TZID=Asia/Singapore:20281104T190000
DTEND;TZID=Asia/Singapore:20281104T201500
DTSTAMP:20260422T020923
CREATED:20250731T062610Z
LAST-MODIFIED:20250731T072101Z
UID:10000174-1856977200-1856981700@ionic.synology.me
SUMMARY:Worship Service - Saturday (English)
DESCRIPTION:
URL:https://ionic.synology.me/qbcnx3/event/worship-service-saturday-english/2028-11-04/
LOCATION:Agape Sanctuary (L3)\, 495 Margaret Drive\, Singapore\, 149305\, Singapore
CATEGORIES:English,Worship Service
ATTACH;FMTTYPE=image/jpeg:https://ionic.synology.me/qbcnx3/wp-content/uploads/2025/07/event-worshipservice-en-sat.jpg
END:VEVENT
BEGIN:VEVENT
DTSTART;TZID=Asia/Singapore:20281105T100000
DTEND;TZID=Asia/Singapore:20281105T111500
DTSTAMP:20260422T020923
CREATED:20250731T062932Z
LAST-MODIFIED:20250731T072107Z
UID:10000436-1857031200-1857035700@ionic.synology.me
SUMMARY:Worship Service – Sunday (English)
DESCRIPTION:
URL:https://ionic.synology.me/qbcnx3/event/worship-service-sunday-english/2028-11-05/
LOCATION:Agape Sanctuary (L3)\, 495 Margaret Drive\, Singapore\, 149305\, Singapore
CATEGORIES:English,Worship Service
ATTACH;FMTTYPE=image/jpeg:https://ionic.synology.me/qbcnx3/wp-content/uploads/2025/07/event-worshipservice-en-sun.jpg
END:VEVENT
BEGIN:VEVENT
DTSTART;TZID=Asia/Singapore:20281111T190000
DTEND;TZID=Asia/Singapore:20281111T201500
DTSTAMP:20260422T020923
CREATED:20250731T062610Z
LAST-MODIFIED:20250731T072101Z
UID:10000175-1857582000-1857586500@ionic.synology.me
SUMMARY:Worship Service - Saturday (English)
DESCRIPTION:
URL:https://ionic.synology.me/qbcnx3/event/worship-service-saturday-english/2028-11-11/
LOCATION:Agape Sanctuary (L3)\, 495 Margaret Drive\, Singapore\, 149305\, Singapore
CATEGORIES:English,Worship Service
ATTACH;FMTTYPE=image/jpeg:https://ionic.synology.me/qbcnx3/wp-content/uploads/2025/07/event-worshipservice-en-sat.jpg
END:VEVENT
BEGIN:VEVENT
DTSTART;TZID=Asia/Singapore:20281112T100000
DTEND;TZID=Asia/Singapore:20281112T111500
DTSTAMP:20260422T020923
CREATED:20250731T062932Z
LAST-MODIFIED:20250731T072107Z
UID:10000437-1857636000-1857640500@ionic.synology.me
SUMMARY:Worship Service – Sunday (English)
DESCRIPTION:
URL:https://ionic.synology.me/qbcnx3/event/worship-service-sunday-english/2028-11-12/
LOCATION:Agape Sanctuary (L3)\, 495 Margaret Drive\, Singapore\, 149305\, Singapore
CATEGORIES:English,Worship Service
ATTACH;FMTTYPE=image/jpeg:https://ionic.synology.me/qbcnx3/wp-content/uploads/2025/07/event-worshipservice-en-sun.jpg
END:VEVENT
BEGIN:VEVENT
DTSTART;TZID=Asia/Singapore:20281118T190000
DTEND;TZID=Asia/Singapore:20281118T201500
DTSTAMP:20260422T020923
CREATED:20250731T062610Z
LAST-MODIFIED:20250731T072101Z
UID:10000176-1858186800-1858191300@ionic.synology.me
SUMMARY:Worship Service - Saturday (English)
DESCRIPTION:
URL:https://ionic.synology.me/qbcnx3/event/worship-service-saturday-english/2028-11-18/
LOCATION:Agape Sanctuary (L3)\, 495 Margaret Drive\, Singapore\, 149305\, Singapore
CATEGORIES:English,Worship Service
ATTACH;FMTTYPE=image/jpeg:https://ionic.synology.me/qbcnx3/wp-content/uploads/2025/07/event-worshipservice-en-sat.jpg
END:VEVENT
BEGIN:VEVENT
DTSTART;TZID=Asia/Singapore:20281119T100000
DTEND;TZID=Asia/Singapore:20281119T111500
DTSTAMP:20260422T020923
CREATED:20250731T062932Z
LAST-MODIFIED:20250731T072107Z
UID:10000438-1858240800-1858245300@ionic.synology.me
SUMMARY:Worship Service – Sunday (English)
DESCRIPTION:
URL:https://ionic.synology.me/qbcnx3/event/worship-service-sunday-english/2028-11-19/
LOCATION:Agape Sanctuary (L3)\, 495 Margaret Drive\, Singapore\, 149305\, Singapore
CATEGORIES:English,Worship Service
ATTACH;FMTTYPE=image/jpeg:https://ionic.synology.me/qbcnx3/wp-content/uploads/2025/07/event-worshipservice-en-sun.jpg
END:VEVENT
BEGIN:VEVENT
DTSTART;TZID=Asia/Singapore:20281125T190000
DTEND;TZID=Asia/Singapore:20281125T201500
DTSTAMP:20260422T020923
CREATED:20250731T062610Z
LAST-MODIFIED:20250731T072101Z
UID:10000177-1858791600-1858796100@ionic.synology.me
SUMMARY:Worship Service - Saturday (English)
DESCRIPTION:
URL:https://ionic.synology.me/qbcnx3/event/worship-service-saturday-english/2028-11-25/
LOCATION:Agape Sanctuary (L3)\, 495 Margaret Drive\, Singapore\, 149305\, Singapore
CATEGORIES:English,Worship Service
ATTACH;FMTTYPE=image/jpeg:https://ionic.synology.me/qbcnx3/wp-content/uploads/2025/07/event-worshipservice-en-sat.jpg
END:VEVENT
BEGIN:VEVENT
DTSTART;TZID=Asia/Singapore:20281126T100000
DTEND;TZID=Asia/Singapore:20281126T111500
DTSTAMP:20260422T020923
CREATED:20250731T062932Z
LAST-MODIFIED:20250731T072107Z
UID:10000439-1858845600-1858850100@ionic.synology.me
SUMMARY:Worship Service – Sunday (English)
DESCRIPTION:
URL:https://ionic.synology.me/qbcnx3/event/worship-service-sunday-english/2028-11-26/
LOCATION:Agape Sanctuary (L3)\, 495 Margaret Drive\, Singapore\, 149305\, Singapore
CATEGORIES:English,Worship Service
ATTACH;FMTTYPE=image/jpeg:https://ionic.synology.me/qbcnx3/wp-content/uploads/2025/07/event-worshipservice-en-sun.jpg
END:VEVENT
END:VCALENDAR