BEGIN:VCALENDAR
VERSION:2.0
PRODID:-//Queenstown Baptist Church  女皇镇浸信教会 - ECPv6.15.20//NONSGML v1.0//EN
CALSCALE:GREGORIAN
METHOD:PUBLISH
X-WR-CALNAME:Queenstown Baptist Church  女皇镇浸信教会
X-ORIGINAL-URL:https://ionic.synology.me/qbcnx3
X-WR-CALDESC:Events for Queenstown Baptist Church  女皇镇浸信教会
REFRESH-INTERVAL;VALUE=DURATION:PT1H
X-Robots-Tag:noindex
X-PUBLISHED-TTL:PT1H
BEGIN:VTIMEZONE
TZID:Asia/Singapore
BEGIN:STANDARD
TZOFFSETFROM:+0800
TZOFFSETTO:+0800
TZNAME:+08
DTSTART:20270101T000000
END:STANDARD
END:VTIMEZONE
BEGIN:VEVENT
DTSTART;TZID=Asia/Singapore:20280301T200000
DTEND;TZID=Asia/Singapore:20280301T213000
DTSTAMP:20260420T015004
CREATED:20250731T080559Z
LAST-MODIFIED:20250731T080559Z
UID:10000626-1835553600-1835559000@ionic.synology.me
SUMMARY:P3 Prayer Night
DESCRIPTION:
URL:https://ionic.synology.me/qbcnx3/event/p3-prayer-night/2028-03-01/
LOCATION:Hall of Hope (L3)\, 495 Margaret Drive\, Singapore\, 149305\, Singapore
CATEGORIES:English,Prayer
ATTACH;FMTTYPE=image/jpeg:https://ionic.synology.me/qbcnx3/wp-content/uploads/2025/07/event-p3.jpg
END:VEVENT
BEGIN:VEVENT
DTSTART;TZID=Asia/Singapore:20280304T190000
DTEND;TZID=Asia/Singapore:20280304T201500
DTSTAMP:20260420T015004
CREATED:20250731T062610Z
LAST-MODIFIED:20250731T072101Z
UID:10000139-1835809200-1835813700@ionic.synology.me
SUMMARY:Worship Service - Saturday (English)
DESCRIPTION:
URL:https://ionic.synology.me/qbcnx3/event/worship-service-saturday-english/2028-03-04/
LOCATION:Agape Sanctuary (L3)\, 495 Margaret Drive\, Singapore\, 149305\, Singapore
CATEGORIES:English,Worship Service
ATTACH;FMTTYPE=image/jpeg:https://ionic.synology.me/qbcnx3/wp-content/uploads/2025/07/event-worshipservice-en-sat.jpg
END:VEVENT
BEGIN:VEVENT
DTSTART;TZID=Asia/Singapore:20280305T100000
DTEND;TZID=Asia/Singapore:20280305T111500
DTSTAMP:20260420T015004
CREATED:20250731T062932Z
LAST-MODIFIED:20250731T072107Z
UID:10000401-1835863200-1835867700@ionic.synology.me
SUMMARY:Worship Service – Sunday (English)
DESCRIPTION:
URL:https://ionic.synology.me/qbcnx3/event/worship-service-sunday-english/2028-03-05/
LOCATION:Agape Sanctuary (L3)\, 495 Margaret Drive\, Singapore\, 149305\, Singapore
CATEGORIES:English,Worship Service
ATTACH;FMTTYPE=image/jpeg:https://ionic.synology.me/qbcnx3/wp-content/uploads/2025/07/event-worshipservice-en-sun.jpg
END:VEVENT
BEGIN:VEVENT
DTSTART;TZID=Asia/Singapore:20280311T190000
DTEND;TZID=Asia/Singapore:20280311T201500
DTSTAMP:20260420T015004
CREATED:20250731T062610Z
LAST-MODIFIED:20250731T072101Z
UID:10000140-1836414000-1836418500@ionic.synology.me
SUMMARY:Worship Service - Saturday (English)
DESCRIPTION:
URL:https://ionic.synology.me/qbcnx3/event/worship-service-saturday-english/2028-03-11/
LOCATION:Agape Sanctuary (L3)\, 495 Margaret Drive\, Singapore\, 149305\, Singapore
CATEGORIES:English,Worship Service
ATTACH;FMTTYPE=image/jpeg:https://ionic.synology.me/qbcnx3/wp-content/uploads/2025/07/event-worshipservice-en-sat.jpg
END:VEVENT
BEGIN:VEVENT
DTSTART;TZID=Asia/Singapore:20280312T100000
DTEND;TZID=Asia/Singapore:20280312T111500
DTSTAMP:20260420T015004
CREATED:20250731T062932Z
LAST-MODIFIED:20250731T072107Z
UID:10000402-1836468000-1836472500@ionic.synology.me
SUMMARY:Worship Service – Sunday (English)
DESCRIPTION:
URL:https://ionic.synology.me/qbcnx3/event/worship-service-sunday-english/2028-03-12/
LOCATION:Agape Sanctuary (L3)\, 495 Margaret Drive\, Singapore\, 149305\, Singapore
CATEGORIES:English,Worship Service
ATTACH;FMTTYPE=image/jpeg:https://ionic.synology.me/qbcnx3/wp-content/uploads/2025/07/event-worshipservice-en-sun.jpg
END:VEVENT
BEGIN:VEVENT
DTSTART;TZID=Asia/Singapore:20280318T190000
DTEND;TZID=Asia/Singapore:20280318T201500
DTSTAMP:20260420T015004
CREATED:20250731T062610Z
LAST-MODIFIED:20250731T072101Z
UID:10000141-1837018800-1837023300@ionic.synology.me
SUMMARY:Worship Service - Saturday (English)
DESCRIPTION:
URL:https://ionic.synology.me/qbcnx3/event/worship-service-saturday-english/2028-03-18/
LOCATION:Agape Sanctuary (L3)\, 495 Margaret Drive\, Singapore\, 149305\, Singapore
CATEGORIES:English,Worship Service
ATTACH;FMTTYPE=image/jpeg:https://ionic.synology.me/qbcnx3/wp-content/uploads/2025/07/event-worshipservice-en-sat.jpg
END:VEVENT
BEGIN:VEVENT
DTSTART;TZID=Asia/Singapore:20280319T100000
DTEND;TZID=Asia/Singapore:20280319T111500
DTSTAMP:20260420T015004
CREATED:20250731T062932Z
LAST-MODIFIED:20250731T072107Z
UID:10000403-1837072800-1837077300@ionic.synology.me
SUMMARY:Worship Service – Sunday (English)
DESCRIPTION:
URL:https://ionic.synology.me/qbcnx3/event/worship-service-sunday-english/2028-03-19/
LOCATION:Agape Sanctuary (L3)\, 495 Margaret Drive\, Singapore\, 149305\, Singapore
CATEGORIES:English,Worship Service
ATTACH;FMTTYPE=image/jpeg:https://ionic.synology.me/qbcnx3/wp-content/uploads/2025/07/event-worshipservice-en-sun.jpg
END:VEVENT
BEGIN:VEVENT
DTSTART;TZID=Asia/Singapore:20280325T190000
DTEND;TZID=Asia/Singapore:20280325T201500
DTSTAMP:20260420T015004
CREATED:20250731T062610Z
LAST-MODIFIED:20250731T072101Z
UID:10000142-1837623600-1837628100@ionic.synology.me
SUMMARY:Worship Service - Saturday (English)
DESCRIPTION:
URL:https://ionic.synology.me/qbcnx3/event/worship-service-saturday-english/2028-03-25/
LOCATION:Agape Sanctuary (L3)\, 495 Margaret Drive\, Singapore\, 149305\, Singapore
CATEGORIES:English,Worship Service
ATTACH;FMTTYPE=image/jpeg:https://ionic.synology.me/qbcnx3/wp-content/uploads/2025/07/event-worshipservice-en-sat.jpg
END:VEVENT
BEGIN:VEVENT
DTSTART;TZID=Asia/Singapore:20280326T100000
DTEND;TZID=Asia/Singapore:20280326T111500
DTSTAMP:20260420T015004
CREATED:20250731T062932Z
LAST-MODIFIED:20250731T072107Z
UID:10000404-1837677600-1837682100@ionic.synology.me
SUMMARY:Worship Service – Sunday (English)
DESCRIPTION:
URL:https://ionic.synology.me/qbcnx3/event/worship-service-sunday-english/2028-03-26/
LOCATION:Agape Sanctuary (L3)\, 495 Margaret Drive\, Singapore\, 149305\, Singapore
CATEGORIES:English,Worship Service
ATTACH;FMTTYPE=image/jpeg:https://ionic.synology.me/qbcnx3/wp-content/uploads/2025/07/event-worshipservice-en-sun.jpg
END:VEVENT
END:VCALENDAR