BEGIN:VCALENDAR
VERSION:2.0
PRODID:-//Queenstown Baptist Church  女皇镇浸信教会 - ECPv6.15.20//NONSGML v1.0//EN
CALSCALE:GREGORIAN
METHOD:PUBLISH
X-ORIGINAL-URL:https://ionic.synology.me/qbcnx3
X-WR-CALDESC:Events for Queenstown Baptist Church  女皇镇浸信教会
REFRESH-INTERVAL;VALUE=DURATION:PT1H
X-Robots-Tag:noindex
X-PUBLISHED-TTL:PT1H
BEGIN:VTIMEZONE
TZID:Asia/Singapore
BEGIN:STANDARD
TZOFFSETFROM:+0800
TZOFFSETTO:+0800
TZNAME:+08
DTSTART:20290101T000000
END:STANDARD
END:VTIMEZONE
BEGIN:VEVENT
DTSTART;TZID=Asia/Singapore:20301004T200000
DTEND;TZID=Asia/Singapore:20301004T213000
DTSTAMP:20260421T102219
CREATED:20251106T063126Z
LAST-MODIFIED:20251106T063313Z
UID:10000808-1917374400-1917379800@ionic.synology.me
SUMMARY:P5 Prayer Night
DESCRIPTION:
URL:https://ionic.synology.me/qbcnx3/event/p5-prayer-night/2030-10-04/
LOCATION:Hall of Hope (L3)\, 495 Margaret Drive\, Singapore\, 149305\, Singapore
CATEGORIES:Chinese,Prayer
ATTACH;FMTTYPE=image/jpeg:https://ionic.synology.me/qbcnx3/wp-content/uploads/2025/07/event-p5.jpg
END:VEVENT
BEGIN:VEVENT
DTSTART;TZID=Asia/Singapore:20301005T190000
DTEND;TZID=Asia/Singapore:20301005T201500
DTSTAMP:20260421T102219
CREATED:20250731T062610Z
LAST-MODIFIED:20250731T072101Z
UID:10000677-1917457200-1917461700@ionic.synology.me
SUMMARY:Worship Service - Saturday (English)
DESCRIPTION:
URL:https://ionic.synology.me/qbcnx3/event/worship-service-saturday-english/2030-10-05/
LOCATION:Agape Sanctuary (L3)\, 495 Margaret Drive\, Singapore\, 149305\, Singapore
CATEGORIES:English,Worship Service
ATTACH;FMTTYPE=image/jpeg:https://ionic.synology.me/qbcnx3/wp-content/uploads/2025/07/event-worshipservice-en-sat.jpg
END:VEVENT
BEGIN:VEVENT
DTSTART;TZID=Asia/Singapore:20301012T190000
DTEND;TZID=Asia/Singapore:20301012T201500
DTSTAMP:20260421T102219
CREATED:20250731T062610Z
LAST-MODIFIED:20250731T072101Z
UID:10000678-1918062000-1918066500@ionic.synology.me
SUMMARY:Worship Service - Saturday (English)
DESCRIPTION:
URL:https://ionic.synology.me/qbcnx3/event/worship-service-saturday-english/2030-10-12/
LOCATION:Agape Sanctuary (L3)\, 495 Margaret Drive\, Singapore\, 149305\, Singapore
CATEGORIES:English,Worship Service
ATTACH;FMTTYPE=image/jpeg:https://ionic.synology.me/qbcnx3/wp-content/uploads/2025/07/event-worshipservice-en-sat.jpg
END:VEVENT
BEGIN:VEVENT
DTSTART;TZID=Asia/Singapore:20301019T190000
DTEND;TZID=Asia/Singapore:20301019T201500
DTSTAMP:20260421T102219
CREATED:20250731T062610Z
LAST-MODIFIED:20250731T072101Z
UID:10000679-1918666800-1918671300@ionic.synology.me
SUMMARY:Worship Service - Saturday (English)
DESCRIPTION:
URL:https://ionic.synology.me/qbcnx3/event/worship-service-saturday-english/2030-10-19/
LOCATION:Agape Sanctuary (L3)\, 495 Margaret Drive\, Singapore\, 149305\, Singapore
CATEGORIES:English,Worship Service
ATTACH;FMTTYPE=image/jpeg:https://ionic.synology.me/qbcnx3/wp-content/uploads/2025/07/event-worshipservice-en-sat.jpg
END:VEVENT
BEGIN:VEVENT
DTSTART;TZID=Asia/Singapore:20301026T190000
DTEND;TZID=Asia/Singapore:20301026T201500
DTSTAMP:20260421T102219
CREATED:20250731T062610Z
LAST-MODIFIED:20250731T072101Z
UID:10000680-1919271600-1919276100@ionic.synology.me
SUMMARY:Worship Service - Saturday (English)
DESCRIPTION:
URL:https://ionic.synology.me/qbcnx3/event/worship-service-saturday-english/2030-10-26/
LOCATION:Agape Sanctuary (L3)\, 495 Margaret Drive\, Singapore\, 149305\, Singapore
CATEGORIES:English,Worship Service
ATTACH;FMTTYPE=image/jpeg:https://ionic.synology.me/qbcnx3/wp-content/uploads/2025/07/event-worshipservice-en-sat.jpg
END:VEVENT
BEGIN:VEVENT
DTSTART;TZID=Asia/Singapore:20301101T200000
DTEND;TZID=Asia/Singapore:20301101T213000
DTSTAMP:20260421T102219
CREATED:20251106T063126Z
LAST-MODIFIED:20251106T063313Z
UID:10000809-1919793600-1919799000@ionic.synology.me
SUMMARY:P5 Prayer Night
DESCRIPTION:
URL:https://ionic.synology.me/qbcnx3/event/p5-prayer-night/2030-11-01/
LOCATION:Hall of Hope (L3)\, 495 Margaret Drive\, Singapore\, 149305\, Singapore
CATEGORIES:Chinese,Prayer
ATTACH;FMTTYPE=image/jpeg:https://ionic.synology.me/qbcnx3/wp-content/uploads/2025/07/event-p5.jpg
END:VEVENT
BEGIN:VEVENT
DTSTART;TZID=Asia/Singapore:20301102T190000
DTEND;TZID=Asia/Singapore:20301102T201500
DTSTAMP:20260421T102219
CREATED:20250731T062610Z
LAST-MODIFIED:20250731T072101Z
UID:10000681-1919876400-1919880900@ionic.synology.me
SUMMARY:Worship Service - Saturday (English)
DESCRIPTION:
URL:https://ionic.synology.me/qbcnx3/event/worship-service-saturday-english/2030-11-02/
LOCATION:Agape Sanctuary (L3)\, 495 Margaret Drive\, Singapore\, 149305\, Singapore
CATEGORIES:English,Worship Service
ATTACH;FMTTYPE=image/jpeg:https://ionic.synology.me/qbcnx3/wp-content/uploads/2025/07/event-worshipservice-en-sat.jpg
END:VEVENT
END:VCALENDAR