BEGIN:VCALENDAR
VERSION:2.0
PRODID:-//Queenstown Baptist Church  女皇镇浸信教会 - ECPv6.15.20//NONSGML v1.0//EN
CALSCALE:GREGORIAN
METHOD:PUBLISH
X-WR-CALNAME:Queenstown Baptist Church  女皇镇浸信教会
X-ORIGINAL-URL:https://ionic.synology.me/qbcnx3
X-WR-CALDESC:Events for Queenstown Baptist Church  女皇镇浸信教会
REFRESH-INTERVAL;VALUE=DURATION:PT1H
X-Robots-Tag:noindex
X-PUBLISHED-TTL:PT1H
BEGIN:VTIMEZONE
TZID:Asia/Singapore
BEGIN:STANDARD
TZOFFSETFROM:+0800
TZOFFSETTO:+0800
TZNAME:+08
DTSTART:20290101T000000
END:STANDARD
END:VTIMEZONE
BEGIN:VEVENT
DTSTART;TZID=Asia/Singapore:20300301T200000
DTEND;TZID=Asia/Singapore:20300301T213000
DTSTAMP:20260421T063756
CREATED:20251106T063126Z
LAST-MODIFIED:20251106T063313Z
UID:10000801-1898625600-1898631000@ionic.synology.me
SUMMARY:P5 Prayer Night
DESCRIPTION:
URL:https://ionic.synology.me/qbcnx3/event/p5-prayer-night/2030-03-01/
LOCATION:Hall of Hope (L3)\, 495 Margaret Drive\, Singapore\, 149305\, Singapore
CATEGORIES:Chinese,Prayer
ATTACH;FMTTYPE=image/jpeg:https://ionic.synology.me/qbcnx3/wp-content/uploads/2025/07/event-p5.jpg
END:VEVENT
BEGIN:VEVENT
DTSTART;TZID=Asia/Singapore:20300302T190000
DTEND;TZID=Asia/Singapore:20300302T201500
DTSTAMP:20260421T063756
CREATED:20250731T062610Z
LAST-MODIFIED:20250731T072101Z
UID:10000243-1898708400-1898712900@ionic.synology.me
SUMMARY:Worship Service - Saturday (English)
DESCRIPTION:
URL:https://ionic.synology.me/qbcnx3/event/worship-service-saturday-english/2030-03-02/
LOCATION:Agape Sanctuary (L3)\, 495 Margaret Drive\, Singapore\, 149305\, Singapore
CATEGORIES:English,Worship Service
ATTACH;FMTTYPE=image/jpeg:https://ionic.synology.me/qbcnx3/wp-content/uploads/2025/07/event-worshipservice-en-sat.jpg
END:VEVENT
BEGIN:VEVENT
DTSTART;TZID=Asia/Singapore:20300303T100000
DTEND;TZID=Asia/Singapore:20300303T111500
DTSTAMP:20260421T063756
CREATED:20250731T062932Z
LAST-MODIFIED:20250731T072107Z
UID:10000505-1898762400-1898766900@ionic.synology.me
SUMMARY:Worship Service – Sunday (English)
DESCRIPTION:
URL:https://ionic.synology.me/qbcnx3/event/worship-service-sunday-english/2030-03-03/
LOCATION:Agape Sanctuary (L3)\, 495 Margaret Drive\, Singapore\, 149305\, Singapore
CATEGORIES:English,Worship Service
ATTACH;FMTTYPE=image/jpeg:https://ionic.synology.me/qbcnx3/wp-content/uploads/2025/07/event-worshipservice-en-sun.jpg
END:VEVENT
BEGIN:VEVENT
DTSTART;TZID=Asia/Singapore:20300306T200000
DTEND;TZID=Asia/Singapore:20300306T213000
DTSTAMP:20260421T063756
CREATED:20250731T080559Z
LAST-MODIFIED:20250731T080559Z
UID:10000650-1899057600-1899063000@ionic.synology.me
SUMMARY:P3 Prayer Night
DESCRIPTION:
URL:https://ionic.synology.me/qbcnx3/event/p3-prayer-night/2030-03-06/
LOCATION:Hall of Hope (L3)\, 495 Margaret Drive\, Singapore\, 149305\, Singapore
CATEGORIES:English,Prayer
ATTACH;FMTTYPE=image/jpeg:https://ionic.synology.me/qbcnx3/wp-content/uploads/2025/07/event-p3.jpg
END:VEVENT
BEGIN:VEVENT
DTSTART;TZID=Asia/Singapore:20300309T190000
DTEND;TZID=Asia/Singapore:20300309T201500
DTSTAMP:20260421T063756
CREATED:20250731T062610Z
LAST-MODIFIED:20250731T072101Z
UID:10000244-1899313200-1899317700@ionic.synology.me
SUMMARY:Worship Service - Saturday (English)
DESCRIPTION:
URL:https://ionic.synology.me/qbcnx3/event/worship-service-saturday-english/2030-03-09/
LOCATION:Agape Sanctuary (L3)\, 495 Margaret Drive\, Singapore\, 149305\, Singapore
CATEGORIES:English,Worship Service
ATTACH;FMTTYPE=image/jpeg:https://ionic.synology.me/qbcnx3/wp-content/uploads/2025/07/event-worshipservice-en-sat.jpg
END:VEVENT
BEGIN:VEVENT
DTSTART;TZID=Asia/Singapore:20300310T100000
DTEND;TZID=Asia/Singapore:20300310T111500
DTSTAMP:20260421T063756
CREATED:20250731T062932Z
LAST-MODIFIED:20250731T072107Z
UID:10000506-1899367200-1899371700@ionic.synology.me
SUMMARY:Worship Service – Sunday (English)
DESCRIPTION:
URL:https://ionic.synology.me/qbcnx3/event/worship-service-sunday-english/2030-03-10/
LOCATION:Agape Sanctuary (L3)\, 495 Margaret Drive\, Singapore\, 149305\, Singapore
CATEGORIES:English,Worship Service
ATTACH;FMTTYPE=image/jpeg:https://ionic.synology.me/qbcnx3/wp-content/uploads/2025/07/event-worshipservice-en-sun.jpg
END:VEVENT
BEGIN:VEVENT
DTSTART;TZID=Asia/Singapore:20300316T190000
DTEND;TZID=Asia/Singapore:20300316T201500
DTSTAMP:20260421T063756
CREATED:20250731T062610Z
LAST-MODIFIED:20250731T072101Z
UID:10000245-1899918000-1899922500@ionic.synology.me
SUMMARY:Worship Service - Saturday (English)
DESCRIPTION:
URL:https://ionic.synology.me/qbcnx3/event/worship-service-saturday-english/2030-03-16/
LOCATION:Agape Sanctuary (L3)\, 495 Margaret Drive\, Singapore\, 149305\, Singapore
CATEGORIES:English,Worship Service
ATTACH;FMTTYPE=image/jpeg:https://ionic.synology.me/qbcnx3/wp-content/uploads/2025/07/event-worshipservice-en-sat.jpg
END:VEVENT
BEGIN:VEVENT
DTSTART;TZID=Asia/Singapore:20300317T100000
DTEND;TZID=Asia/Singapore:20300317T111500
DTSTAMP:20260421T063756
CREATED:20250731T062932Z
LAST-MODIFIED:20250731T072107Z
UID:10000507-1899972000-1899976500@ionic.synology.me
SUMMARY:Worship Service – Sunday (English)
DESCRIPTION:
URL:https://ionic.synology.me/qbcnx3/event/worship-service-sunday-english/2030-03-17/
LOCATION:Agape Sanctuary (L3)\, 495 Margaret Drive\, Singapore\, 149305\, Singapore
CATEGORIES:English,Worship Service
ATTACH;FMTTYPE=image/jpeg:https://ionic.synology.me/qbcnx3/wp-content/uploads/2025/07/event-worshipservice-en-sun.jpg
END:VEVENT
BEGIN:VEVENT
DTSTART;TZID=Asia/Singapore:20300323T190000
DTEND;TZID=Asia/Singapore:20300323T201500
DTSTAMP:20260421T063756
CREATED:20250731T062610Z
LAST-MODIFIED:20250731T072101Z
UID:10000246-1900522800-1900527300@ionic.synology.me
SUMMARY:Worship Service - Saturday (English)
DESCRIPTION:
URL:https://ionic.synology.me/qbcnx3/event/worship-service-saturday-english/2030-03-23/
LOCATION:Agape Sanctuary (L3)\, 495 Margaret Drive\, Singapore\, 149305\, Singapore
CATEGORIES:English,Worship Service
ATTACH;FMTTYPE=image/jpeg:https://ionic.synology.me/qbcnx3/wp-content/uploads/2025/07/event-worshipservice-en-sat.jpg
END:VEVENT
BEGIN:VEVENT
DTSTART;TZID=Asia/Singapore:20300324T100000
DTEND;TZID=Asia/Singapore:20300324T111500
DTSTAMP:20260421T063756
CREATED:20250731T062932Z
LAST-MODIFIED:20250731T072107Z
UID:10000508-1900576800-1900581300@ionic.synology.me
SUMMARY:Worship Service – Sunday (English)
DESCRIPTION:
URL:https://ionic.synology.me/qbcnx3/event/worship-service-sunday-english/2030-03-24/
LOCATION:Agape Sanctuary (L3)\, 495 Margaret Drive\, Singapore\, 149305\, Singapore
CATEGORIES:English,Worship Service
ATTACH;FMTTYPE=image/jpeg:https://ionic.synology.me/qbcnx3/wp-content/uploads/2025/07/event-worshipservice-en-sun.jpg
END:VEVENT
BEGIN:VEVENT
DTSTART;TZID=Asia/Singapore:20300330T190000
DTEND;TZID=Asia/Singapore:20300330T201500
DTSTAMP:20260421T063756
CREATED:20250731T062610Z
LAST-MODIFIED:20250731T072101Z
UID:10000247-1901127600-1901132100@ionic.synology.me
SUMMARY:Worship Service - Saturday (English)
DESCRIPTION:
URL:https://ionic.synology.me/qbcnx3/event/worship-service-saturday-english/2030-03-30/
LOCATION:Agape Sanctuary (L3)\, 495 Margaret Drive\, Singapore\, 149305\, Singapore
CATEGORIES:English,Worship Service
ATTACH;FMTTYPE=image/jpeg:https://ionic.synology.me/qbcnx3/wp-content/uploads/2025/07/event-worshipservice-en-sat.jpg
END:VEVENT
BEGIN:VEVENT
DTSTART;TZID=Asia/Singapore:20300331T100000
DTEND;TZID=Asia/Singapore:20300331T111500
DTSTAMP:20260421T063756
CREATED:20250731T062932Z
LAST-MODIFIED:20250731T072107Z
UID:10000509-1901181600-1901186100@ionic.synology.me
SUMMARY:Worship Service – Sunday (English)
DESCRIPTION:
URL:https://ionic.synology.me/qbcnx3/event/worship-service-sunday-english/2030-03-31/
LOCATION:Agape Sanctuary (L3)\, 495 Margaret Drive\, Singapore\, 149305\, Singapore
CATEGORIES:English,Worship Service
ATTACH;FMTTYPE=image/jpeg:https://ionic.synology.me/qbcnx3/wp-content/uploads/2025/07/event-worshipservice-en-sun.jpg
END:VEVENT
BEGIN:VEVENT
DTSTART;TZID=Asia/Singapore:20300403T200000
DTEND;TZID=Asia/Singapore:20300403T213000
DTSTAMP:20260421T063756
CREATED:20250731T080559Z
LAST-MODIFIED:20250731T080559Z
UID:10000651-1901476800-1901482200@ionic.synology.me
SUMMARY:P3 Prayer Night
DESCRIPTION:
URL:https://ionic.synology.me/qbcnx3/event/p3-prayer-night/2030-04-03/
LOCATION:Hall of Hope (L3)\, 495 Margaret Drive\, Singapore\, 149305\, Singapore
CATEGORIES:English,Prayer
ATTACH;FMTTYPE=image/jpeg:https://ionic.synology.me/qbcnx3/wp-content/uploads/2025/07/event-p3.jpg
END:VEVENT
BEGIN:VEVENT
DTSTART;TZID=Asia/Singapore:20300405T200000
DTEND;TZID=Asia/Singapore:20300405T213000
DTSTAMP:20260421T063756
CREATED:20251106T063126Z
LAST-MODIFIED:20251106T063313Z
UID:10000802-1901649600-1901655000@ionic.synology.me
SUMMARY:P5 Prayer Night
DESCRIPTION:
URL:https://ionic.synology.me/qbcnx3/event/p5-prayer-night/2030-04-05/
LOCATION:Hall of Hope (L3)\, 495 Margaret Drive\, Singapore\, 149305\, Singapore
CATEGORIES:Chinese,Prayer
ATTACH;FMTTYPE=image/jpeg:https://ionic.synology.me/qbcnx3/wp-content/uploads/2025/07/event-p5.jpg
END:VEVENT
BEGIN:VEVENT
DTSTART;TZID=Asia/Singapore:20300406T190000
DTEND;TZID=Asia/Singapore:20300406T201500
DTSTAMP:20260421T063756
CREATED:20250731T062610Z
LAST-MODIFIED:20250731T072101Z
UID:10000248-1901732400-1901736900@ionic.synology.me
SUMMARY:Worship Service - Saturday (English)
DESCRIPTION:
URL:https://ionic.synology.me/qbcnx3/event/worship-service-saturday-english/2030-04-06/
LOCATION:Agape Sanctuary (L3)\, 495 Margaret Drive\, Singapore\, 149305\, Singapore
CATEGORIES:English,Worship Service
ATTACH;FMTTYPE=image/jpeg:https://ionic.synology.me/qbcnx3/wp-content/uploads/2025/07/event-worshipservice-en-sat.jpg
END:VEVENT
BEGIN:VEVENT
DTSTART;TZID=Asia/Singapore:20300407T100000
DTEND;TZID=Asia/Singapore:20300407T111500
DTSTAMP:20260421T063756
CREATED:20250731T062932Z
LAST-MODIFIED:20250731T072107Z
UID:10000510-1901786400-1901790900@ionic.synology.me
SUMMARY:Worship Service – Sunday (English)
DESCRIPTION:
URL:https://ionic.synology.me/qbcnx3/event/worship-service-sunday-english/2030-04-07/
LOCATION:Agape Sanctuary (L3)\, 495 Margaret Drive\, Singapore\, 149305\, Singapore
CATEGORIES:English,Worship Service
ATTACH;FMTTYPE=image/jpeg:https://ionic.synology.me/qbcnx3/wp-content/uploads/2025/07/event-worshipservice-en-sun.jpg
END:VEVENT
BEGIN:VEVENT
DTSTART;TZID=Asia/Singapore:20300413T190000
DTEND;TZID=Asia/Singapore:20300413T201500
DTSTAMP:20260421T063756
CREATED:20250731T062610Z
LAST-MODIFIED:20250731T072101Z
UID:10000249-1902337200-1902341700@ionic.synology.me
SUMMARY:Worship Service - Saturday (English)
DESCRIPTION:
URL:https://ionic.synology.me/qbcnx3/event/worship-service-saturday-english/2030-04-13/
LOCATION:Agape Sanctuary (L3)\, 495 Margaret Drive\, Singapore\, 149305\, Singapore
CATEGORIES:English,Worship Service
ATTACH;FMTTYPE=image/jpeg:https://ionic.synology.me/qbcnx3/wp-content/uploads/2025/07/event-worshipservice-en-sat.jpg
END:VEVENT
BEGIN:VEVENT
DTSTART;TZID=Asia/Singapore:20300414T100000
DTEND;TZID=Asia/Singapore:20300414T111500
DTSTAMP:20260421T063756
CREATED:20250731T062932Z
LAST-MODIFIED:20250731T072107Z
UID:10000511-1902391200-1902395700@ionic.synology.me
SUMMARY:Worship Service – Sunday (English)
DESCRIPTION:
URL:https://ionic.synology.me/qbcnx3/event/worship-service-sunday-english/2030-04-14/
LOCATION:Agape Sanctuary (L3)\, 495 Margaret Drive\, Singapore\, 149305\, Singapore
CATEGORIES:English,Worship Service
ATTACH;FMTTYPE=image/jpeg:https://ionic.synology.me/qbcnx3/wp-content/uploads/2025/07/event-worshipservice-en-sun.jpg
END:VEVENT
BEGIN:VEVENT
DTSTART;TZID=Asia/Singapore:20300420T190000
DTEND;TZID=Asia/Singapore:20300420T201500
DTSTAMP:20260421T063756
CREATED:20250731T062610Z
LAST-MODIFIED:20250731T072101Z
UID:10000250-1902942000-1902946500@ionic.synology.me
SUMMARY:Worship Service - Saturday (English)
DESCRIPTION:
URL:https://ionic.synology.me/qbcnx3/event/worship-service-saturday-english/2030-04-20/
LOCATION:Agape Sanctuary (L3)\, 495 Margaret Drive\, Singapore\, 149305\, Singapore
CATEGORIES:English,Worship Service
ATTACH;FMTTYPE=image/jpeg:https://ionic.synology.me/qbcnx3/wp-content/uploads/2025/07/event-worshipservice-en-sat.jpg
END:VEVENT
BEGIN:VEVENT
DTSTART;TZID=Asia/Singapore:20300421T100000
DTEND;TZID=Asia/Singapore:20300421T111500
DTSTAMP:20260421T063756
CREATED:20250731T062932Z
LAST-MODIFIED:20250731T072107Z
UID:10000512-1902996000-1903000500@ionic.synology.me
SUMMARY:Worship Service – Sunday (English)
DESCRIPTION:
URL:https://ionic.synology.me/qbcnx3/event/worship-service-sunday-english/2030-04-21/
LOCATION:Agape Sanctuary (L3)\, 495 Margaret Drive\, Singapore\, 149305\, Singapore
CATEGORIES:English,Worship Service
ATTACH;FMTTYPE=image/jpeg:https://ionic.synology.me/qbcnx3/wp-content/uploads/2025/07/event-worshipservice-en-sun.jpg
END:VEVENT
BEGIN:VEVENT
DTSTART;TZID=Asia/Singapore:20300427T190000
DTEND;TZID=Asia/Singapore:20300427T201500
DTSTAMP:20260421T063756
CREATED:20250731T062610Z
LAST-MODIFIED:20250731T072101Z
UID:10000251-1903546800-1903551300@ionic.synology.me
SUMMARY:Worship Service - Saturday (English)
DESCRIPTION:
URL:https://ionic.synology.me/qbcnx3/event/worship-service-saturday-english/2030-04-27/
LOCATION:Agape Sanctuary (L3)\, 495 Margaret Drive\, Singapore\, 149305\, Singapore
CATEGORIES:English,Worship Service
ATTACH;FMTTYPE=image/jpeg:https://ionic.synology.me/qbcnx3/wp-content/uploads/2025/07/event-worshipservice-en-sat.jpg
END:VEVENT
BEGIN:VEVENT
DTSTART;TZID=Asia/Singapore:20300428T100000
DTEND;TZID=Asia/Singapore:20300428T111500
DTSTAMP:20260421T063756
CREATED:20250731T062932Z
LAST-MODIFIED:20250731T072107Z
UID:10000513-1903600800-1903605300@ionic.synology.me
SUMMARY:Worship Service – Sunday (English)
DESCRIPTION:
URL:https://ionic.synology.me/qbcnx3/event/worship-service-sunday-english/2030-04-28/
LOCATION:Agape Sanctuary (L3)\, 495 Margaret Drive\, Singapore\, 149305\, Singapore
CATEGORIES:English,Worship Service
ATTACH;FMTTYPE=image/jpeg:https://ionic.synology.me/qbcnx3/wp-content/uploads/2025/07/event-worshipservice-en-sun.jpg
END:VEVENT
BEGIN:VEVENT
DTSTART;TZID=Asia/Singapore:20300501T200000
DTEND;TZID=Asia/Singapore:20300501T213000
DTSTAMP:20260421T063756
CREATED:20250731T080559Z
LAST-MODIFIED:20250731T080559Z
UID:10000652-1903896000-1903901400@ionic.synology.me
SUMMARY:P3 Prayer Night
DESCRIPTION:
URL:https://ionic.synology.me/qbcnx3/event/p3-prayer-night/2030-05-01/
LOCATION:Hall of Hope (L3)\, 495 Margaret Drive\, Singapore\, 149305\, Singapore
CATEGORIES:English,Prayer
ATTACH;FMTTYPE=image/jpeg:https://ionic.synology.me/qbcnx3/wp-content/uploads/2025/07/event-p3.jpg
END:VEVENT
BEGIN:VEVENT
DTSTART;TZID=Asia/Singapore:20300503T200000
DTEND;TZID=Asia/Singapore:20300503T213000
DTSTAMP:20260421T063756
CREATED:20251106T063126Z
LAST-MODIFIED:20251106T063313Z
UID:10000803-1904068800-1904074200@ionic.synology.me
SUMMARY:P5 Prayer Night
DESCRIPTION:
URL:https://ionic.synology.me/qbcnx3/event/p5-prayer-night/2030-05-03/
LOCATION:Hall of Hope (L3)\, 495 Margaret Drive\, Singapore\, 149305\, Singapore
CATEGORIES:Chinese,Prayer
ATTACH;FMTTYPE=image/jpeg:https://ionic.synology.me/qbcnx3/wp-content/uploads/2025/07/event-p5.jpg
END:VEVENT
BEGIN:VEVENT
DTSTART;TZID=Asia/Singapore:20300504T190000
DTEND;TZID=Asia/Singapore:20300504T201500
DTSTAMP:20260421T063756
CREATED:20250731T062610Z
LAST-MODIFIED:20250731T072101Z
UID:10000252-1904151600-1904156100@ionic.synology.me
SUMMARY:Worship Service - Saturday (English)
DESCRIPTION:
URL:https://ionic.synology.me/qbcnx3/event/worship-service-saturday-english/2030-05-04/
LOCATION:Agape Sanctuary (L3)\, 495 Margaret Drive\, Singapore\, 149305\, Singapore
CATEGORIES:English,Worship Service
ATTACH;FMTTYPE=image/jpeg:https://ionic.synology.me/qbcnx3/wp-content/uploads/2025/07/event-worshipservice-en-sat.jpg
END:VEVENT
BEGIN:VEVENT
DTSTART;TZID=Asia/Singapore:20300505T100000
DTEND;TZID=Asia/Singapore:20300505T111500
DTSTAMP:20260421T063756
CREATED:20250731T062932Z
LAST-MODIFIED:20250731T072107Z
UID:10000514-1904205600-1904210100@ionic.synology.me
SUMMARY:Worship Service – Sunday (English)
DESCRIPTION:
URL:https://ionic.synology.me/qbcnx3/event/worship-service-sunday-english/2030-05-05/
LOCATION:Agape Sanctuary (L3)\, 495 Margaret Drive\, Singapore\, 149305\, Singapore
CATEGORIES:English,Worship Service
ATTACH;FMTTYPE=image/jpeg:https://ionic.synology.me/qbcnx3/wp-content/uploads/2025/07/event-worshipservice-en-sun.jpg
END:VEVENT
BEGIN:VEVENT
DTSTART;TZID=Asia/Singapore:20300511T190000
DTEND;TZID=Asia/Singapore:20300511T201500
DTSTAMP:20260421T063756
CREATED:20250731T062610Z
LAST-MODIFIED:20250731T072101Z
UID:10000253-1904756400-1904760900@ionic.synology.me
SUMMARY:Worship Service - Saturday (English)
DESCRIPTION:
URL:https://ionic.synology.me/qbcnx3/event/worship-service-saturday-english/2030-05-11/
LOCATION:Agape Sanctuary (L3)\, 495 Margaret Drive\, Singapore\, 149305\, Singapore
CATEGORIES:English,Worship Service
ATTACH;FMTTYPE=image/jpeg:https://ionic.synology.me/qbcnx3/wp-content/uploads/2025/07/event-worshipservice-en-sat.jpg
END:VEVENT
BEGIN:VEVENT
DTSTART;TZID=Asia/Singapore:20300512T100000
DTEND;TZID=Asia/Singapore:20300512T111500
DTSTAMP:20260421T063756
CREATED:20250731T062932Z
LAST-MODIFIED:20250731T072107Z
UID:10000515-1904810400-1904814900@ionic.synology.me
SUMMARY:Worship Service – Sunday (English)
DESCRIPTION:
URL:https://ionic.synology.me/qbcnx3/event/worship-service-sunday-english/2030-05-12/
LOCATION:Agape Sanctuary (L3)\, 495 Margaret Drive\, Singapore\, 149305\, Singapore
CATEGORIES:English,Worship Service
ATTACH;FMTTYPE=image/jpeg:https://ionic.synology.me/qbcnx3/wp-content/uploads/2025/07/event-worshipservice-en-sun.jpg
END:VEVENT
BEGIN:VEVENT
DTSTART;TZID=Asia/Singapore:20300518T190000
DTEND;TZID=Asia/Singapore:20300518T201500
DTSTAMP:20260421T063756
CREATED:20250731T062610Z
LAST-MODIFIED:20250731T072101Z
UID:10000254-1905361200-1905365700@ionic.synology.me
SUMMARY:Worship Service - Saturday (English)
DESCRIPTION:
URL:https://ionic.synology.me/qbcnx3/event/worship-service-saturday-english/2030-05-18/
LOCATION:Agape Sanctuary (L3)\, 495 Margaret Drive\, Singapore\, 149305\, Singapore
CATEGORIES:English,Worship Service
ATTACH;FMTTYPE=image/jpeg:https://ionic.synology.me/qbcnx3/wp-content/uploads/2025/07/event-worshipservice-en-sat.jpg
END:VEVENT
BEGIN:VEVENT
DTSTART;TZID=Asia/Singapore:20300519T100000
DTEND;TZID=Asia/Singapore:20300519T111500
DTSTAMP:20260421T063756
CREATED:20250731T062932Z
LAST-MODIFIED:20250731T072107Z
UID:10000516-1905415200-1905419700@ionic.synology.me
SUMMARY:Worship Service – Sunday (English)
DESCRIPTION:
URL:https://ionic.synology.me/qbcnx3/event/worship-service-sunday-english/2030-05-19/
LOCATION:Agape Sanctuary (L3)\, 495 Margaret Drive\, Singapore\, 149305\, Singapore
CATEGORIES:English,Worship Service
ATTACH;FMTTYPE=image/jpeg:https://ionic.synology.me/qbcnx3/wp-content/uploads/2025/07/event-worshipservice-en-sun.jpg
END:VEVENT
END:VCALENDAR