BEGIN:VCALENDAR
VERSION:2.0
PRODID:-//Queenstown Baptist Church  女皇镇浸信教会 - ECPv6.15.20//NONSGML v1.0//EN
CALSCALE:GREGORIAN
METHOD:PUBLISH
X-ORIGINAL-URL:https://ionic.synology.me/qbcnx3
X-WR-CALDESC:Events for Queenstown Baptist Church  女皇镇浸信教会
REFRESH-INTERVAL;VALUE=DURATION:PT1H
X-Robots-Tag:noindex
X-PUBLISHED-TTL:PT1H
BEGIN:VTIMEZONE
TZID:Asia/Singapore
BEGIN:STANDARD
TZOFFSETFROM:+0800
TZOFFSETTO:+0800
TZNAME:+08
DTSTART:20290101T000000
END:STANDARD
END:VTIMEZONE
BEGIN:VEVENT
DTSTART;TZID=Asia/Singapore:20300519T100000
DTEND;TZID=Asia/Singapore:20300519T111500
DTSTAMP:20260421T053420
CREATED:20250731T062932Z
LAST-MODIFIED:20250731T072107Z
UID:10000516-1905415200-1905419700@ionic.synology.me
SUMMARY:Worship Service – Sunday (English)
DESCRIPTION:
URL:https://ionic.synology.me/qbcnx3/event/worship-service-sunday-english/2030-05-19/
LOCATION:Agape Sanctuary (L3)\, 495 Margaret Drive\, Singapore\, 149305\, Singapore
CATEGORIES:English,Worship Service
ATTACH;FMTTYPE=image/jpeg:https://ionic.synology.me/qbcnx3/wp-content/uploads/2025/07/event-worshipservice-en-sun.jpg
END:VEVENT
BEGIN:VEVENT
DTSTART;TZID=Asia/Singapore:20300525T190000
DTEND;TZID=Asia/Singapore:20300525T201500
DTSTAMP:20260421T053420
CREATED:20250731T062610Z
LAST-MODIFIED:20250731T072101Z
UID:10000255-1905966000-1905970500@ionic.synology.me
SUMMARY:Worship Service - Saturday (English)
DESCRIPTION:
URL:https://ionic.synology.me/qbcnx3/event/worship-service-saturday-english/2030-05-25/
LOCATION:Agape Sanctuary (L3)\, 495 Margaret Drive\, Singapore\, 149305\, Singapore
CATEGORIES:English,Worship Service
ATTACH;FMTTYPE=image/jpeg:https://ionic.synology.me/qbcnx3/wp-content/uploads/2025/07/event-worshipservice-en-sat.jpg
END:VEVENT
BEGIN:VEVENT
DTSTART;TZID=Asia/Singapore:20300526T100000
DTEND;TZID=Asia/Singapore:20300526T111500
DTSTAMP:20260421T053420
CREATED:20250731T062932Z
LAST-MODIFIED:20250731T072107Z
UID:10000517-1906020000-1906024500@ionic.synology.me
SUMMARY:Worship Service – Sunday (English)
DESCRIPTION:
URL:https://ionic.synology.me/qbcnx3/event/worship-service-sunday-english/2030-05-26/
LOCATION:Agape Sanctuary (L3)\, 495 Margaret Drive\, Singapore\, 149305\, Singapore
CATEGORIES:English,Worship Service
ATTACH;FMTTYPE=image/jpeg:https://ionic.synology.me/qbcnx3/wp-content/uploads/2025/07/event-worshipservice-en-sun.jpg
END:VEVENT
BEGIN:VEVENT
DTSTART;TZID=Asia/Singapore:20300601T190000
DTEND;TZID=Asia/Singapore:20300601T201500
DTSTAMP:20260421T053420
CREATED:20250731T062610Z
LAST-MODIFIED:20250731T072101Z
UID:10000256-1906570800-1906575300@ionic.synology.me
SUMMARY:Worship Service - Saturday (English)
DESCRIPTION:
URL:https://ionic.synology.me/qbcnx3/event/worship-service-saturday-english/2030-06-01/
LOCATION:Agape Sanctuary (L3)\, 495 Margaret Drive\, Singapore\, 149305\, Singapore
CATEGORIES:English,Worship Service
ATTACH;FMTTYPE=image/jpeg:https://ionic.synology.me/qbcnx3/wp-content/uploads/2025/07/event-worshipservice-en-sat.jpg
END:VEVENT
BEGIN:VEVENT
DTSTART;TZID=Asia/Singapore:20300602T100000
DTEND;TZID=Asia/Singapore:20300602T111500
DTSTAMP:20260421T053420
CREATED:20250731T062932Z
LAST-MODIFIED:20250731T072107Z
UID:10000518-1906624800-1906629300@ionic.synology.me
SUMMARY:Worship Service – Sunday (English)
DESCRIPTION:
URL:https://ionic.synology.me/qbcnx3/event/worship-service-sunday-english/2030-06-02/
LOCATION:Agape Sanctuary (L3)\, 495 Margaret Drive\, Singapore\, 149305\, Singapore
CATEGORIES:English,Worship Service
ATTACH;FMTTYPE=image/jpeg:https://ionic.synology.me/qbcnx3/wp-content/uploads/2025/07/event-worshipservice-en-sun.jpg
END:VEVENT
BEGIN:VEVENT
DTSTART;TZID=Asia/Singapore:20300605T200000
DTEND;TZID=Asia/Singapore:20300605T213000
DTSTAMP:20260421T053420
CREATED:20250731T080559Z
LAST-MODIFIED:20250731T080559Z
UID:10000653-1906920000-1906925400@ionic.synology.me
SUMMARY:P3 Prayer Night
DESCRIPTION:
URL:https://ionic.synology.me/qbcnx3/event/p3-prayer-night/2030-06-05/
LOCATION:Hall of Hope (L3)\, 495 Margaret Drive\, Singapore\, 149305\, Singapore
CATEGORIES:English,Prayer
ATTACH;FMTTYPE=image/jpeg:https://ionic.synology.me/qbcnx3/wp-content/uploads/2025/07/event-p3.jpg
END:VEVENT
BEGIN:VEVENT
DTSTART;TZID=Asia/Singapore:20300607T200000
DTEND;TZID=Asia/Singapore:20300607T213000
DTSTAMP:20260421T053420
CREATED:20251106T063126Z
LAST-MODIFIED:20251106T063313Z
UID:10000804-1907092800-1907098200@ionic.synology.me
SUMMARY:P5 Prayer Night
DESCRIPTION:
URL:https://ionic.synology.me/qbcnx3/event/p5-prayer-night/2030-06-07/
LOCATION:Hall of Hope (L3)\, 495 Margaret Drive\, Singapore\, 149305\, Singapore
CATEGORIES:Chinese,Prayer
ATTACH;FMTTYPE=image/jpeg:https://ionic.synology.me/qbcnx3/wp-content/uploads/2025/07/event-p5.jpg
END:VEVENT
BEGIN:VEVENT
DTSTART;TZID=Asia/Singapore:20300608T190000
DTEND;TZID=Asia/Singapore:20300608T201500
DTSTAMP:20260421T053420
CREATED:20250731T062610Z
LAST-MODIFIED:20250731T072101Z
UID:10000257-1907175600-1907180100@ionic.synology.me
SUMMARY:Worship Service - Saturday (English)
DESCRIPTION:
URL:https://ionic.synology.me/qbcnx3/event/worship-service-saturday-english/2030-06-08/
LOCATION:Agape Sanctuary (L3)\, 495 Margaret Drive\, Singapore\, 149305\, Singapore
CATEGORIES:English,Worship Service
ATTACH;FMTTYPE=image/jpeg:https://ionic.synology.me/qbcnx3/wp-content/uploads/2025/07/event-worshipservice-en-sat.jpg
END:VEVENT
BEGIN:VEVENT
DTSTART;TZID=Asia/Singapore:20300609T100000
DTEND;TZID=Asia/Singapore:20300609T111500
DTSTAMP:20260421T053420
CREATED:20250731T062932Z
LAST-MODIFIED:20250731T072107Z
UID:10000519-1907229600-1907234100@ionic.synology.me
SUMMARY:Worship Service – Sunday (English)
DESCRIPTION:
URL:https://ionic.synology.me/qbcnx3/event/worship-service-sunday-english/2030-06-09/
LOCATION:Agape Sanctuary (L3)\, 495 Margaret Drive\, Singapore\, 149305\, Singapore
CATEGORIES:English,Worship Service
ATTACH;FMTTYPE=image/jpeg:https://ionic.synology.me/qbcnx3/wp-content/uploads/2025/07/event-worshipservice-en-sun.jpg
END:VEVENT
BEGIN:VEVENT
DTSTART;TZID=Asia/Singapore:20300615T190000
DTEND;TZID=Asia/Singapore:20300615T201500
DTSTAMP:20260421T053420
CREATED:20250731T062610Z
LAST-MODIFIED:20250731T072101Z
UID:10000258-1907780400-1907784900@ionic.synology.me
SUMMARY:Worship Service - Saturday (English)
DESCRIPTION:
URL:https://ionic.synology.me/qbcnx3/event/worship-service-saturday-english/2030-06-15/
LOCATION:Agape Sanctuary (L3)\, 495 Margaret Drive\, Singapore\, 149305\, Singapore
CATEGORIES:English,Worship Service
ATTACH;FMTTYPE=image/jpeg:https://ionic.synology.me/qbcnx3/wp-content/uploads/2025/07/event-worshipservice-en-sat.jpg
END:VEVENT
BEGIN:VEVENT
DTSTART;TZID=Asia/Singapore:20300616T100000
DTEND;TZID=Asia/Singapore:20300616T111500
DTSTAMP:20260421T053420
CREATED:20250731T062932Z
LAST-MODIFIED:20250731T072107Z
UID:10000520-1907834400-1907838900@ionic.synology.me
SUMMARY:Worship Service – Sunday (English)
DESCRIPTION:
URL:https://ionic.synology.me/qbcnx3/event/worship-service-sunday-english/2030-06-16/
LOCATION:Agape Sanctuary (L3)\, 495 Margaret Drive\, Singapore\, 149305\, Singapore
CATEGORIES:English,Worship Service
ATTACH;FMTTYPE=image/jpeg:https://ionic.synology.me/qbcnx3/wp-content/uploads/2025/07/event-worshipservice-en-sun.jpg
END:VEVENT
BEGIN:VEVENT
DTSTART;TZID=Asia/Singapore:20300622T190000
DTEND;TZID=Asia/Singapore:20300622T201500
DTSTAMP:20260421T053420
CREATED:20250731T062610Z
LAST-MODIFIED:20250731T072101Z
UID:10000259-1908385200-1908389700@ionic.synology.me
SUMMARY:Worship Service - Saturday (English)
DESCRIPTION:
URL:https://ionic.synology.me/qbcnx3/event/worship-service-saturday-english/2030-06-22/
LOCATION:Agape Sanctuary (L3)\, 495 Margaret Drive\, Singapore\, 149305\, Singapore
CATEGORIES:English,Worship Service
ATTACH;FMTTYPE=image/jpeg:https://ionic.synology.me/qbcnx3/wp-content/uploads/2025/07/event-worshipservice-en-sat.jpg
END:VEVENT
BEGIN:VEVENT
DTSTART;TZID=Asia/Singapore:20300623T100000
DTEND;TZID=Asia/Singapore:20300623T111500
DTSTAMP:20260421T053420
CREATED:20250731T062932Z
LAST-MODIFIED:20250731T072107Z
UID:10000521-1908439200-1908443700@ionic.synology.me
SUMMARY:Worship Service – Sunday (English)
DESCRIPTION:
URL:https://ionic.synology.me/qbcnx3/event/worship-service-sunday-english/2030-06-23/
LOCATION:Agape Sanctuary (L3)\, 495 Margaret Drive\, Singapore\, 149305\, Singapore
CATEGORIES:English,Worship Service
ATTACH;FMTTYPE=image/jpeg:https://ionic.synology.me/qbcnx3/wp-content/uploads/2025/07/event-worshipservice-en-sun.jpg
END:VEVENT
BEGIN:VEVENT
DTSTART;TZID=Asia/Singapore:20300629T190000
DTEND;TZID=Asia/Singapore:20300629T201500
DTSTAMP:20260421T053420
CREATED:20250731T062610Z
LAST-MODIFIED:20250731T072101Z
UID:10000260-1908990000-1908994500@ionic.synology.me
SUMMARY:Worship Service - Saturday (English)
DESCRIPTION:
URL:https://ionic.synology.me/qbcnx3/event/worship-service-saturday-english/2030-06-29/
LOCATION:Agape Sanctuary (L3)\, 495 Margaret Drive\, Singapore\, 149305\, Singapore
CATEGORIES:English,Worship Service
ATTACH;FMTTYPE=image/jpeg:https://ionic.synology.me/qbcnx3/wp-content/uploads/2025/07/event-worshipservice-en-sat.jpg
END:VEVENT
BEGIN:VEVENT
DTSTART;TZID=Asia/Singapore:20300630T100000
DTEND;TZID=Asia/Singapore:20300630T111500
DTSTAMP:20260421T053420
CREATED:20250731T062932Z
LAST-MODIFIED:20250731T072107Z
UID:10000522-1909044000-1909048500@ionic.synology.me
SUMMARY:Worship Service – Sunday (English)
DESCRIPTION:
URL:https://ionic.synology.me/qbcnx3/event/worship-service-sunday-english/2030-06-30/
LOCATION:Agape Sanctuary (L3)\, 495 Margaret Drive\, Singapore\, 149305\, Singapore
CATEGORIES:English,Worship Service
ATTACH;FMTTYPE=image/jpeg:https://ionic.synology.me/qbcnx3/wp-content/uploads/2025/07/event-worshipservice-en-sun.jpg
END:VEVENT
BEGIN:VEVENT
DTSTART;TZID=Asia/Singapore:20300703T200000
DTEND;TZID=Asia/Singapore:20300703T213000
DTSTAMP:20260421T053420
CREATED:20250731T080559Z
LAST-MODIFIED:20250731T080559Z
UID:10000654-1909339200-1909344600@ionic.synology.me
SUMMARY:P3 Prayer Night
DESCRIPTION:
URL:https://ionic.synology.me/qbcnx3/event/p3-prayer-night/2030-07-03/
LOCATION:Hall of Hope (L3)\, 495 Margaret Drive\, Singapore\, 149305\, Singapore
CATEGORIES:English,Prayer
ATTACH;FMTTYPE=image/jpeg:https://ionic.synology.me/qbcnx3/wp-content/uploads/2025/07/event-p3.jpg
END:VEVENT
BEGIN:VEVENT
DTSTART;TZID=Asia/Singapore:20300705T200000
DTEND;TZID=Asia/Singapore:20300705T213000
DTSTAMP:20260421T053420
CREATED:20251106T063126Z
LAST-MODIFIED:20251106T063313Z
UID:10000805-1909512000-1909517400@ionic.synology.me
SUMMARY:P5 Prayer Night
DESCRIPTION:
URL:https://ionic.synology.me/qbcnx3/event/p5-prayer-night/2030-07-05/
LOCATION:Hall of Hope (L3)\, 495 Margaret Drive\, Singapore\, 149305\, Singapore
CATEGORIES:Chinese,Prayer
ATTACH;FMTTYPE=image/jpeg:https://ionic.synology.me/qbcnx3/wp-content/uploads/2025/07/event-p5.jpg
END:VEVENT
BEGIN:VEVENT
DTSTART;TZID=Asia/Singapore:20300706T190000
DTEND;TZID=Asia/Singapore:20300706T201500
DTSTAMP:20260421T053420
CREATED:20250731T062610Z
LAST-MODIFIED:20250731T072101Z
UID:10000261-1909594800-1909599300@ionic.synology.me
SUMMARY:Worship Service - Saturday (English)
DESCRIPTION:
URL:https://ionic.synology.me/qbcnx3/event/worship-service-saturday-english/2030-07-06/
LOCATION:Agape Sanctuary (L3)\, 495 Margaret Drive\, Singapore\, 149305\, Singapore
CATEGORIES:English,Worship Service
ATTACH;FMTTYPE=image/jpeg:https://ionic.synology.me/qbcnx3/wp-content/uploads/2025/07/event-worshipservice-en-sat.jpg
END:VEVENT
BEGIN:VEVENT
DTSTART;TZID=Asia/Singapore:20300707T100000
DTEND;TZID=Asia/Singapore:20300707T111500
DTSTAMP:20260421T053420
CREATED:20250731T062932Z
LAST-MODIFIED:20250731T072107Z
UID:10000523-1909648800-1909653300@ionic.synology.me
SUMMARY:Worship Service – Sunday (English)
DESCRIPTION:
URL:https://ionic.synology.me/qbcnx3/event/worship-service-sunday-english/2030-07-07/
LOCATION:Agape Sanctuary (L3)\, 495 Margaret Drive\, Singapore\, 149305\, Singapore
CATEGORIES:English,Worship Service
ATTACH;FMTTYPE=image/jpeg:https://ionic.synology.me/qbcnx3/wp-content/uploads/2025/07/event-worshipservice-en-sun.jpg
END:VEVENT
BEGIN:VEVENT
DTSTART;TZID=Asia/Singapore:20300713T190000
DTEND;TZID=Asia/Singapore:20300713T201500
DTSTAMP:20260421T053420
CREATED:20250731T062610Z
LAST-MODIFIED:20250731T072101Z
UID:10000262-1910199600-1910204100@ionic.synology.me
SUMMARY:Worship Service - Saturday (English)
DESCRIPTION:
URL:https://ionic.synology.me/qbcnx3/event/worship-service-saturday-english/2030-07-13/
LOCATION:Agape Sanctuary (L3)\, 495 Margaret Drive\, Singapore\, 149305\, Singapore
CATEGORIES:English,Worship Service
ATTACH;FMTTYPE=image/jpeg:https://ionic.synology.me/qbcnx3/wp-content/uploads/2025/07/event-worshipservice-en-sat.jpg
END:VEVENT
BEGIN:VEVENT
DTSTART;TZID=Asia/Singapore:20300714T100000
DTEND;TZID=Asia/Singapore:20300714T111500
DTSTAMP:20260421T053420
CREATED:20250731T062932Z
LAST-MODIFIED:20250731T072107Z
UID:10000524-1910253600-1910258100@ionic.synology.me
SUMMARY:Worship Service – Sunday (English)
DESCRIPTION:
URL:https://ionic.synology.me/qbcnx3/event/worship-service-sunday-english/2030-07-14/
LOCATION:Agape Sanctuary (L3)\, 495 Margaret Drive\, Singapore\, 149305\, Singapore
CATEGORIES:English,Worship Service
ATTACH;FMTTYPE=image/jpeg:https://ionic.synology.me/qbcnx3/wp-content/uploads/2025/07/event-worshipservice-en-sun.jpg
END:VEVENT
BEGIN:VEVENT
DTSTART;TZID=Asia/Singapore:20300720T190000
DTEND;TZID=Asia/Singapore:20300720T201500
DTSTAMP:20260421T053420
CREATED:20250731T062610Z
LAST-MODIFIED:20250731T072101Z
UID:10000263-1910804400-1910808900@ionic.synology.me
SUMMARY:Worship Service - Saturday (English)
DESCRIPTION:
URL:https://ionic.synology.me/qbcnx3/event/worship-service-saturday-english/2030-07-20/
LOCATION:Agape Sanctuary (L3)\, 495 Margaret Drive\, Singapore\, 149305\, Singapore
CATEGORIES:English,Worship Service
ATTACH;FMTTYPE=image/jpeg:https://ionic.synology.me/qbcnx3/wp-content/uploads/2025/07/event-worshipservice-en-sat.jpg
END:VEVENT
BEGIN:VEVENT
DTSTART;TZID=Asia/Singapore:20300721T100000
DTEND;TZID=Asia/Singapore:20300721T111500
DTSTAMP:20260421T053420
CREATED:20250731T062932Z
LAST-MODIFIED:20250731T072107Z
UID:10000525-1910858400-1910862900@ionic.synology.me
SUMMARY:Worship Service – Sunday (English)
DESCRIPTION:
URL:https://ionic.synology.me/qbcnx3/event/worship-service-sunday-english/2030-07-21/
LOCATION:Agape Sanctuary (L3)\, 495 Margaret Drive\, Singapore\, 149305\, Singapore
CATEGORIES:English,Worship Service
ATTACH;FMTTYPE=image/jpeg:https://ionic.synology.me/qbcnx3/wp-content/uploads/2025/07/event-worshipservice-en-sun.jpg
END:VEVENT
BEGIN:VEVENT
DTSTART;TZID=Asia/Singapore:20300727T190000
DTEND;TZID=Asia/Singapore:20300727T201500
DTSTAMP:20260421T053420
CREATED:20250731T062610Z
LAST-MODIFIED:20250731T072101Z
UID:10000264-1911409200-1911413700@ionic.synology.me
SUMMARY:Worship Service - Saturday (English)
DESCRIPTION:
URL:https://ionic.synology.me/qbcnx3/event/worship-service-saturday-english/2030-07-27/
LOCATION:Agape Sanctuary (L3)\, 495 Margaret Drive\, Singapore\, 149305\, Singapore
CATEGORIES:English,Worship Service
ATTACH;FMTTYPE=image/jpeg:https://ionic.synology.me/qbcnx3/wp-content/uploads/2025/07/event-worshipservice-en-sat.jpg
END:VEVENT
BEGIN:VEVENT
DTSTART;TZID=Asia/Singapore:20300728T100000
DTEND;TZID=Asia/Singapore:20300728T111500
DTSTAMP:20260421T053420
CREATED:20250731T062932Z
LAST-MODIFIED:20250731T072107Z
UID:10000526-1911463200-1911467700@ionic.synology.me
SUMMARY:Worship Service – Sunday (English)
DESCRIPTION:
URL:https://ionic.synology.me/qbcnx3/event/worship-service-sunday-english/2030-07-28/
LOCATION:Agape Sanctuary (L3)\, 495 Margaret Drive\, Singapore\, 149305\, Singapore
CATEGORIES:English,Worship Service
ATTACH;FMTTYPE=image/jpeg:https://ionic.synology.me/qbcnx3/wp-content/uploads/2025/07/event-worshipservice-en-sun.jpg
END:VEVENT
BEGIN:VEVENT
DTSTART;TZID=Asia/Singapore:20300802T200000
DTEND;TZID=Asia/Singapore:20300802T213000
DTSTAMP:20260421T053420
CREATED:20251106T063126Z
LAST-MODIFIED:20251106T063313Z
UID:10000806-1911931200-1911936600@ionic.synology.me
SUMMARY:P5 Prayer Night
DESCRIPTION:
URL:https://ionic.synology.me/qbcnx3/event/p5-prayer-night/2030-08-02/
LOCATION:Hall of Hope (L3)\, 495 Margaret Drive\, Singapore\, 149305\, Singapore
CATEGORIES:Chinese,Prayer
ATTACH;FMTTYPE=image/jpeg:https://ionic.synology.me/qbcnx3/wp-content/uploads/2025/07/event-p5.jpg
END:VEVENT
BEGIN:VEVENT
DTSTART;TZID=Asia/Singapore:20300803T190000
DTEND;TZID=Asia/Singapore:20300803T201500
DTSTAMP:20260421T053420
CREATED:20250731T062610Z
LAST-MODIFIED:20250731T072101Z
UID:10000668-1912014000-1912018500@ionic.synology.me
SUMMARY:Worship Service - Saturday (English)
DESCRIPTION:
URL:https://ionic.synology.me/qbcnx3/event/worship-service-saturday-english/2030-08-03/
LOCATION:Agape Sanctuary (L3)\, 495 Margaret Drive\, Singapore\, 149305\, Singapore
CATEGORIES:English,Worship Service
ATTACH;FMTTYPE=image/jpeg:https://ionic.synology.me/qbcnx3/wp-content/uploads/2025/07/event-worshipservice-en-sat.jpg
END:VEVENT
BEGIN:VEVENT
DTSTART;TZID=Asia/Singapore:20300810T190000
DTEND;TZID=Asia/Singapore:20300810T201500
DTSTAMP:20260421T053420
CREATED:20250731T062610Z
LAST-MODIFIED:20250731T072101Z
UID:10000669-1912618800-1912623300@ionic.synology.me
SUMMARY:Worship Service - Saturday (English)
DESCRIPTION:
URL:https://ionic.synology.me/qbcnx3/event/worship-service-saturday-english/2030-08-10/
LOCATION:Agape Sanctuary (L3)\, 495 Margaret Drive\, Singapore\, 149305\, Singapore
CATEGORIES:English,Worship Service
ATTACH;FMTTYPE=image/jpeg:https://ionic.synology.me/qbcnx3/wp-content/uploads/2025/07/event-worshipservice-en-sat.jpg
END:VEVENT
BEGIN:VEVENT
DTSTART;TZID=Asia/Singapore:20300817T190000
DTEND;TZID=Asia/Singapore:20300817T201500
DTSTAMP:20260421T053420
CREATED:20250731T062610Z
LAST-MODIFIED:20250731T072101Z
UID:10000670-1913223600-1913228100@ionic.synology.me
SUMMARY:Worship Service - Saturday (English)
DESCRIPTION:
URL:https://ionic.synology.me/qbcnx3/event/worship-service-saturday-english/2030-08-17/
LOCATION:Agape Sanctuary (L3)\, 495 Margaret Drive\, Singapore\, 149305\, Singapore
CATEGORIES:English,Worship Service
ATTACH;FMTTYPE=image/jpeg:https://ionic.synology.me/qbcnx3/wp-content/uploads/2025/07/event-worshipservice-en-sat.jpg
END:VEVENT
BEGIN:VEVENT
DTSTART;TZID=Asia/Singapore:20300824T190000
DTEND;TZID=Asia/Singapore:20300824T201500
DTSTAMP:20260421T053420
CREATED:20250731T062610Z
LAST-MODIFIED:20250731T072101Z
UID:10000671-1913828400-1913832900@ionic.synology.me
SUMMARY:Worship Service - Saturday (English)
DESCRIPTION:
URL:https://ionic.synology.me/qbcnx3/event/worship-service-saturday-english/2030-08-24/
LOCATION:Agape Sanctuary (L3)\, 495 Margaret Drive\, Singapore\, 149305\, Singapore
CATEGORIES:English,Worship Service
ATTACH;FMTTYPE=image/jpeg:https://ionic.synology.me/qbcnx3/wp-content/uploads/2025/07/event-worshipservice-en-sat.jpg
END:VEVENT
END:VCALENDAR