BEGIN:VCALENDAR
VERSION:2.0
PRODID:-//Queenstown Baptist Church  女皇镇浸信教会 - ECPv6.15.20//NONSGML v1.0//EN
CALSCALE:GREGORIAN
METHOD:PUBLISH
X-ORIGINAL-URL:https://ionic.synology.me/qbcnx3
X-WR-CALDESC:Events for Queenstown Baptist Church  女皇镇浸信教会
REFRESH-INTERVAL;VALUE=DURATION:PT1H
X-Robots-Tag:noindex
X-PUBLISHED-TTL:PT1H
BEGIN:VTIMEZONE
TZID:Asia/Singapore
BEGIN:STANDARD
TZOFFSETFROM:+0800
TZOFFSETTO:+0800
TZNAME:+08
DTSTART:20280101T000000
END:STANDARD
END:VTIMEZONE
BEGIN:VEVENT
DTSTART;TZID=Asia/Singapore:20291003T200000
DTEND;TZID=Asia/Singapore:20291003T213000
DTSTAMP:20260421T124939
CREATED:20250731T080559Z
LAST-MODIFIED:20250731T080559Z
UID:10000645-1885752000-1885757400@ionic.synology.me
SUMMARY:P3 Prayer Night
DESCRIPTION:
URL:https://ionic.synology.me/qbcnx3/event/p3-prayer-night/2029-10-03/
LOCATION:Hall of Hope (L3)\, 495 Margaret Drive\, Singapore\, 149305\, Singapore
CATEGORIES:English,Prayer
ATTACH;FMTTYPE=image/jpeg:https://ionic.synology.me/qbcnx3/wp-content/uploads/2025/07/event-p3.jpg
END:VEVENT
BEGIN:VEVENT
DTSTART;TZID=Asia/Singapore:20291005T200000
DTEND;TZID=Asia/Singapore:20291005T213000
DTSTAMP:20260421T124939
CREATED:20251106T063126Z
LAST-MODIFIED:20251106T063313Z
UID:10000796-1885924800-1885930200@ionic.synology.me
SUMMARY:P5 Prayer Night
DESCRIPTION:
URL:https://ionic.synology.me/qbcnx3/event/p5-prayer-night/2029-10-05/
LOCATION:Hall of Hope (L3)\, 495 Margaret Drive\, Singapore\, 149305\, Singapore
CATEGORIES:Chinese,Prayer
ATTACH;FMTTYPE=image/jpeg:https://ionic.synology.me/qbcnx3/wp-content/uploads/2025/07/event-p5.jpg
END:VEVENT
BEGIN:VEVENT
DTSTART;TZID=Asia/Singapore:20291006T190000
DTEND;TZID=Asia/Singapore:20291006T201500
DTSTAMP:20260421T124939
CREATED:20250731T062610Z
LAST-MODIFIED:20250731T072101Z
UID:10000222-1886007600-1886012100@ionic.synology.me
SUMMARY:Worship Service - Saturday (English)
DESCRIPTION:
URL:https://ionic.synology.me/qbcnx3/event/worship-service-saturday-english/2029-10-06/
LOCATION:Agape Sanctuary (L3)\, 495 Margaret Drive\, Singapore\, 149305\, Singapore
CATEGORIES:English,Worship Service
ATTACH;FMTTYPE=image/jpeg:https://ionic.synology.me/qbcnx3/wp-content/uploads/2025/07/event-worshipservice-en-sat.jpg
END:VEVENT
BEGIN:VEVENT
DTSTART;TZID=Asia/Singapore:20291007T100000
DTEND;TZID=Asia/Singapore:20291007T111500
DTSTAMP:20260421T124939
CREATED:20250731T062932Z
LAST-MODIFIED:20250731T072107Z
UID:10000484-1886061600-1886066100@ionic.synology.me
SUMMARY:Worship Service – Sunday (English)
DESCRIPTION:
URL:https://ionic.synology.me/qbcnx3/event/worship-service-sunday-english/2029-10-07/
LOCATION:Agape Sanctuary (L3)\, 495 Margaret Drive\, Singapore\, 149305\, Singapore
CATEGORIES:English,Worship Service
ATTACH;FMTTYPE=image/jpeg:https://ionic.synology.me/qbcnx3/wp-content/uploads/2025/07/event-worshipservice-en-sun.jpg
END:VEVENT
BEGIN:VEVENT
DTSTART;TZID=Asia/Singapore:20291013T190000
DTEND;TZID=Asia/Singapore:20291013T201500
DTSTAMP:20260421T124939
CREATED:20250731T062610Z
LAST-MODIFIED:20250731T072101Z
UID:10000223-1886612400-1886616900@ionic.synology.me
SUMMARY:Worship Service - Saturday (English)
DESCRIPTION:
URL:https://ionic.synology.me/qbcnx3/event/worship-service-saturday-english/2029-10-13/
LOCATION:Agape Sanctuary (L3)\, 495 Margaret Drive\, Singapore\, 149305\, Singapore
CATEGORIES:English,Worship Service
ATTACH;FMTTYPE=image/jpeg:https://ionic.synology.me/qbcnx3/wp-content/uploads/2025/07/event-worshipservice-en-sat.jpg
END:VEVENT
BEGIN:VEVENT
DTSTART;TZID=Asia/Singapore:20291014T100000
DTEND;TZID=Asia/Singapore:20291014T111500
DTSTAMP:20260421T124939
CREATED:20250731T062932Z
LAST-MODIFIED:20250731T072107Z
UID:10000485-1886666400-1886670900@ionic.synology.me
SUMMARY:Worship Service – Sunday (English)
DESCRIPTION:
URL:https://ionic.synology.me/qbcnx3/event/worship-service-sunday-english/2029-10-14/
LOCATION:Agape Sanctuary (L3)\, 495 Margaret Drive\, Singapore\, 149305\, Singapore
CATEGORIES:English,Worship Service
ATTACH;FMTTYPE=image/jpeg:https://ionic.synology.me/qbcnx3/wp-content/uploads/2025/07/event-worshipservice-en-sun.jpg
END:VEVENT
BEGIN:VEVENT
DTSTART;TZID=Asia/Singapore:20291020T190000
DTEND;TZID=Asia/Singapore:20291020T201500
DTSTAMP:20260421T124939
CREATED:20250731T062610Z
LAST-MODIFIED:20250731T072101Z
UID:10000224-1887217200-1887221700@ionic.synology.me
SUMMARY:Worship Service - Saturday (English)
DESCRIPTION:
URL:https://ionic.synology.me/qbcnx3/event/worship-service-saturday-english/2029-10-20/
LOCATION:Agape Sanctuary (L3)\, 495 Margaret Drive\, Singapore\, 149305\, Singapore
CATEGORIES:English,Worship Service
ATTACH;FMTTYPE=image/jpeg:https://ionic.synology.me/qbcnx3/wp-content/uploads/2025/07/event-worshipservice-en-sat.jpg
END:VEVENT
BEGIN:VEVENT
DTSTART;TZID=Asia/Singapore:20291021T100000
DTEND;TZID=Asia/Singapore:20291021T111500
DTSTAMP:20260421T124939
CREATED:20250731T062932Z
LAST-MODIFIED:20250731T072107Z
UID:10000486-1887271200-1887275700@ionic.synology.me
SUMMARY:Worship Service – Sunday (English)
DESCRIPTION:
URL:https://ionic.synology.me/qbcnx3/event/worship-service-sunday-english/2029-10-21/
LOCATION:Agape Sanctuary (L3)\, 495 Margaret Drive\, Singapore\, 149305\, Singapore
CATEGORIES:English,Worship Service
ATTACH;FMTTYPE=image/jpeg:https://ionic.synology.me/qbcnx3/wp-content/uploads/2025/07/event-worshipservice-en-sun.jpg
END:VEVENT
BEGIN:VEVENT
DTSTART;TZID=Asia/Singapore:20291027T190000
DTEND;TZID=Asia/Singapore:20291027T201500
DTSTAMP:20260421T124939
CREATED:20250731T062610Z
LAST-MODIFIED:20250731T072101Z
UID:10000225-1887822000-1887826500@ionic.synology.me
SUMMARY:Worship Service - Saturday (English)
DESCRIPTION:
URL:https://ionic.synology.me/qbcnx3/event/worship-service-saturday-english/2029-10-27/
LOCATION:Agape Sanctuary (L3)\, 495 Margaret Drive\, Singapore\, 149305\, Singapore
CATEGORIES:English,Worship Service
ATTACH;FMTTYPE=image/jpeg:https://ionic.synology.me/qbcnx3/wp-content/uploads/2025/07/event-worshipservice-en-sat.jpg
END:VEVENT
BEGIN:VEVENT
DTSTART;TZID=Asia/Singapore:20291028T100000
DTEND;TZID=Asia/Singapore:20291028T111500
DTSTAMP:20260421T124939
CREATED:20250731T062932Z
LAST-MODIFIED:20250731T072107Z
UID:10000487-1887876000-1887880500@ionic.synology.me
SUMMARY:Worship Service – Sunday (English)
DESCRIPTION:
URL:https://ionic.synology.me/qbcnx3/event/worship-service-sunday-english/2029-10-28/
LOCATION:Agape Sanctuary (L3)\, 495 Margaret Drive\, Singapore\, 149305\, Singapore
CATEGORIES:English,Worship Service
ATTACH;FMTTYPE=image/jpeg:https://ionic.synology.me/qbcnx3/wp-content/uploads/2025/07/event-worshipservice-en-sun.jpg
END:VEVENT
BEGIN:VEVENT
DTSTART;TZID=Asia/Singapore:20291102T200000
DTEND;TZID=Asia/Singapore:20291102T213000
DTSTAMP:20260421T124939
CREATED:20251106T063126Z
LAST-MODIFIED:20251106T063313Z
UID:10000797-1888344000-1888349400@ionic.synology.me
SUMMARY:P5 Prayer Night
DESCRIPTION:
URL:https://ionic.synology.me/qbcnx3/event/p5-prayer-night/2029-11-02/
LOCATION:Hall of Hope (L3)\, 495 Margaret Drive\, Singapore\, 149305\, Singapore
CATEGORIES:Chinese,Prayer
ATTACH;FMTTYPE=image/jpeg:https://ionic.synology.me/qbcnx3/wp-content/uploads/2025/07/event-p5.jpg
END:VEVENT
BEGIN:VEVENT
DTSTART;TZID=Asia/Singapore:20291103T190000
DTEND;TZID=Asia/Singapore:20291103T201500
DTSTAMP:20260421T124939
CREATED:20250731T062610Z
LAST-MODIFIED:20250731T072101Z
UID:10000226-1888426800-1888431300@ionic.synology.me
SUMMARY:Worship Service - Saturday (English)
DESCRIPTION:
URL:https://ionic.synology.me/qbcnx3/event/worship-service-saturday-english/2029-11-03/
LOCATION:Agape Sanctuary (L3)\, 495 Margaret Drive\, Singapore\, 149305\, Singapore
CATEGORIES:English,Worship Service
ATTACH;FMTTYPE=image/jpeg:https://ionic.synology.me/qbcnx3/wp-content/uploads/2025/07/event-worshipservice-en-sat.jpg
END:VEVENT
BEGIN:VEVENT
DTSTART;TZID=Asia/Singapore:20291104T100000
DTEND;TZID=Asia/Singapore:20291104T111500
DTSTAMP:20260421T124939
CREATED:20250731T062932Z
LAST-MODIFIED:20250731T072107Z
UID:10000488-1888480800-1888485300@ionic.synology.me
SUMMARY:Worship Service – Sunday (English)
DESCRIPTION:
URL:https://ionic.synology.me/qbcnx3/event/worship-service-sunday-english/2029-11-04/
LOCATION:Agape Sanctuary (L3)\, 495 Margaret Drive\, Singapore\, 149305\, Singapore
CATEGORIES:English,Worship Service
ATTACH;FMTTYPE=image/jpeg:https://ionic.synology.me/qbcnx3/wp-content/uploads/2025/07/event-worshipservice-en-sun.jpg
END:VEVENT
BEGIN:VEVENT
DTSTART;TZID=Asia/Singapore:20291107T200000
DTEND;TZID=Asia/Singapore:20291107T213000
DTSTAMP:20260421T124939
CREATED:20250731T080559Z
LAST-MODIFIED:20250731T080559Z
UID:10000646-1888776000-1888781400@ionic.synology.me
SUMMARY:P3 Prayer Night
DESCRIPTION:
URL:https://ionic.synology.me/qbcnx3/event/p3-prayer-night/2029-11-07/
LOCATION:Hall of Hope (L3)\, 495 Margaret Drive\, Singapore\, 149305\, Singapore
CATEGORIES:English,Prayer
ATTACH;FMTTYPE=image/jpeg:https://ionic.synology.me/qbcnx3/wp-content/uploads/2025/07/event-p3.jpg
END:VEVENT
BEGIN:VEVENT
DTSTART;TZID=Asia/Singapore:20291110T190000
DTEND;TZID=Asia/Singapore:20291110T201500
DTSTAMP:20260421T124939
CREATED:20250731T062610Z
LAST-MODIFIED:20250731T072101Z
UID:10000227-1889031600-1889036100@ionic.synology.me
SUMMARY:Worship Service - Saturday (English)
DESCRIPTION:
URL:https://ionic.synology.me/qbcnx3/event/worship-service-saturday-english/2029-11-10/
LOCATION:Agape Sanctuary (L3)\, 495 Margaret Drive\, Singapore\, 149305\, Singapore
CATEGORIES:English,Worship Service
ATTACH;FMTTYPE=image/jpeg:https://ionic.synology.me/qbcnx3/wp-content/uploads/2025/07/event-worshipservice-en-sat.jpg
END:VEVENT
BEGIN:VEVENT
DTSTART;TZID=Asia/Singapore:20291111T100000
DTEND;TZID=Asia/Singapore:20291111T111500
DTSTAMP:20260421T124939
CREATED:20250731T062932Z
LAST-MODIFIED:20250731T072107Z
UID:10000489-1889085600-1889090100@ionic.synology.me
SUMMARY:Worship Service – Sunday (English)
DESCRIPTION:
URL:https://ionic.synology.me/qbcnx3/event/worship-service-sunday-english/2029-11-11/
LOCATION:Agape Sanctuary (L3)\, 495 Margaret Drive\, Singapore\, 149305\, Singapore
CATEGORIES:English,Worship Service
ATTACH;FMTTYPE=image/jpeg:https://ionic.synology.me/qbcnx3/wp-content/uploads/2025/07/event-worshipservice-en-sun.jpg
END:VEVENT
BEGIN:VEVENT
DTSTART;TZID=Asia/Singapore:20291117T190000
DTEND;TZID=Asia/Singapore:20291117T201500
DTSTAMP:20260421T124939
CREATED:20250731T062610Z
LAST-MODIFIED:20250731T072101Z
UID:10000228-1889636400-1889640900@ionic.synology.me
SUMMARY:Worship Service - Saturday (English)
DESCRIPTION:
URL:https://ionic.synology.me/qbcnx3/event/worship-service-saturday-english/2029-11-17/
LOCATION:Agape Sanctuary (L3)\, 495 Margaret Drive\, Singapore\, 149305\, Singapore
CATEGORIES:English,Worship Service
ATTACH;FMTTYPE=image/jpeg:https://ionic.synology.me/qbcnx3/wp-content/uploads/2025/07/event-worshipservice-en-sat.jpg
END:VEVENT
BEGIN:VEVENT
DTSTART;TZID=Asia/Singapore:20291118T100000
DTEND;TZID=Asia/Singapore:20291118T111500
DTSTAMP:20260421T124939
CREATED:20250731T062932Z
LAST-MODIFIED:20250731T072107Z
UID:10000490-1889690400-1889694900@ionic.synology.me
SUMMARY:Worship Service – Sunday (English)
DESCRIPTION:
URL:https://ionic.synology.me/qbcnx3/event/worship-service-sunday-english/2029-11-18/
LOCATION:Agape Sanctuary (L3)\, 495 Margaret Drive\, Singapore\, 149305\, Singapore
CATEGORIES:English,Worship Service
ATTACH;FMTTYPE=image/jpeg:https://ionic.synology.me/qbcnx3/wp-content/uploads/2025/07/event-worshipservice-en-sun.jpg
END:VEVENT
BEGIN:VEVENT
DTSTART;TZID=Asia/Singapore:20291124T190000
DTEND;TZID=Asia/Singapore:20291124T201500
DTSTAMP:20260421T124939
CREATED:20250731T062610Z
LAST-MODIFIED:20250731T072101Z
UID:10000229-1890241200-1890245700@ionic.synology.me
SUMMARY:Worship Service - Saturday (English)
DESCRIPTION:
URL:https://ionic.synology.me/qbcnx3/event/worship-service-saturday-english/2029-11-24/
LOCATION:Agape Sanctuary (L3)\, 495 Margaret Drive\, Singapore\, 149305\, Singapore
CATEGORIES:English,Worship Service
ATTACH;FMTTYPE=image/jpeg:https://ionic.synology.me/qbcnx3/wp-content/uploads/2025/07/event-worshipservice-en-sat.jpg
END:VEVENT
BEGIN:VEVENT
DTSTART;TZID=Asia/Singapore:20291125T100000
DTEND;TZID=Asia/Singapore:20291125T111500
DTSTAMP:20260421T124939
CREATED:20250731T062932Z
LAST-MODIFIED:20250731T072107Z
UID:10000491-1890295200-1890299700@ionic.synology.me
SUMMARY:Worship Service – Sunday (English)
DESCRIPTION:
URL:https://ionic.synology.me/qbcnx3/event/worship-service-sunday-english/2029-11-25/
LOCATION:Agape Sanctuary (L3)\, 495 Margaret Drive\, Singapore\, 149305\, Singapore
CATEGORIES:English,Worship Service
ATTACH;FMTTYPE=image/jpeg:https://ionic.synology.me/qbcnx3/wp-content/uploads/2025/07/event-worshipservice-en-sun.jpg
END:VEVENT
BEGIN:VEVENT
DTSTART;TZID=Asia/Singapore:20291201T190000
DTEND;TZID=Asia/Singapore:20291201T201500
DTSTAMP:20260421T124939
CREATED:20250731T062610Z
LAST-MODIFIED:20250731T072101Z
UID:10000230-1890846000-1890850500@ionic.synology.me
SUMMARY:Worship Service - Saturday (English)
DESCRIPTION:
URL:https://ionic.synology.me/qbcnx3/event/worship-service-saturday-english/2029-12-01/
LOCATION:Agape Sanctuary (L3)\, 495 Margaret Drive\, Singapore\, 149305\, Singapore
CATEGORIES:English,Worship Service
ATTACH;FMTTYPE=image/jpeg:https://ionic.synology.me/qbcnx3/wp-content/uploads/2025/07/event-worshipservice-en-sat.jpg
END:VEVENT
BEGIN:VEVENT
DTSTART;TZID=Asia/Singapore:20291202T100000
DTEND;TZID=Asia/Singapore:20291202T111500
DTSTAMP:20260421T124939
CREATED:20250731T062932Z
LAST-MODIFIED:20250731T072107Z
UID:10000492-1890900000-1890904500@ionic.synology.me
SUMMARY:Worship Service – Sunday (English)
DESCRIPTION:
URL:https://ionic.synology.me/qbcnx3/event/worship-service-sunday-english/2029-12-02/
LOCATION:Agape Sanctuary (L3)\, 495 Margaret Drive\, Singapore\, 149305\, Singapore
CATEGORIES:English,Worship Service
ATTACH;FMTTYPE=image/jpeg:https://ionic.synology.me/qbcnx3/wp-content/uploads/2025/07/event-worshipservice-en-sun.jpg
END:VEVENT
BEGIN:VEVENT
DTSTART;TZID=Asia/Singapore:20291205T200000
DTEND;TZID=Asia/Singapore:20291205T213000
DTSTAMP:20260421T124939
CREATED:20250731T080559Z
LAST-MODIFIED:20250731T080559Z
UID:10000647-1891195200-1891200600@ionic.synology.me
SUMMARY:P3 Prayer Night
DESCRIPTION:
URL:https://ionic.synology.me/qbcnx3/event/p3-prayer-night/2029-12-05/
LOCATION:Hall of Hope (L3)\, 495 Margaret Drive\, Singapore\, 149305\, Singapore
CATEGORIES:English,Prayer
ATTACH;FMTTYPE=image/jpeg:https://ionic.synology.me/qbcnx3/wp-content/uploads/2025/07/event-p3.jpg
END:VEVENT
BEGIN:VEVENT
DTSTART;TZID=Asia/Singapore:20291207T200000
DTEND;TZID=Asia/Singapore:20291207T213000
DTSTAMP:20260421T124939
CREATED:20251106T063126Z
LAST-MODIFIED:20251106T063313Z
UID:10000798-1891368000-1891373400@ionic.synology.me
SUMMARY:P5 Prayer Night
DESCRIPTION:
URL:https://ionic.synology.me/qbcnx3/event/p5-prayer-night/2029-12-07/
LOCATION:Hall of Hope (L3)\, 495 Margaret Drive\, Singapore\, 149305\, Singapore
CATEGORIES:Chinese,Prayer
ATTACH;FMTTYPE=image/jpeg:https://ionic.synology.me/qbcnx3/wp-content/uploads/2025/07/event-p5.jpg
END:VEVENT
BEGIN:VEVENT
DTSTART;TZID=Asia/Singapore:20291208T190000
DTEND;TZID=Asia/Singapore:20291208T201500
DTSTAMP:20260421T124939
CREATED:20250731T062610Z
LAST-MODIFIED:20250731T072101Z
UID:10000231-1891450800-1891455300@ionic.synology.me
SUMMARY:Worship Service - Saturday (English)
DESCRIPTION:
URL:https://ionic.synology.me/qbcnx3/event/worship-service-saturday-english/2029-12-08/
LOCATION:Agape Sanctuary (L3)\, 495 Margaret Drive\, Singapore\, 149305\, Singapore
CATEGORIES:English,Worship Service
ATTACH;FMTTYPE=image/jpeg:https://ionic.synology.me/qbcnx3/wp-content/uploads/2025/07/event-worshipservice-en-sat.jpg
END:VEVENT
BEGIN:VEVENT
DTSTART;TZID=Asia/Singapore:20291209T100000
DTEND;TZID=Asia/Singapore:20291209T111500
DTSTAMP:20260421T124939
CREATED:20250731T062932Z
LAST-MODIFIED:20250731T072107Z
UID:10000493-1891504800-1891509300@ionic.synology.me
SUMMARY:Worship Service – Sunday (English)
DESCRIPTION:
URL:https://ionic.synology.me/qbcnx3/event/worship-service-sunday-english/2029-12-09/
LOCATION:Agape Sanctuary (L3)\, 495 Margaret Drive\, Singapore\, 149305\, Singapore
CATEGORIES:English,Worship Service
ATTACH;FMTTYPE=image/jpeg:https://ionic.synology.me/qbcnx3/wp-content/uploads/2025/07/event-worshipservice-en-sun.jpg
END:VEVENT
BEGIN:VEVENT
DTSTART;TZID=Asia/Singapore:20291215T190000
DTEND;TZID=Asia/Singapore:20291215T201500
DTSTAMP:20260421T124939
CREATED:20250731T062610Z
LAST-MODIFIED:20250731T072101Z
UID:10000232-1892055600-1892060100@ionic.synology.me
SUMMARY:Worship Service - Saturday (English)
DESCRIPTION:
URL:https://ionic.synology.me/qbcnx3/event/worship-service-saturday-english/2029-12-15/
LOCATION:Agape Sanctuary (L3)\, 495 Margaret Drive\, Singapore\, 149305\, Singapore
CATEGORIES:English,Worship Service
ATTACH;FMTTYPE=image/jpeg:https://ionic.synology.me/qbcnx3/wp-content/uploads/2025/07/event-worshipservice-en-sat.jpg
END:VEVENT
BEGIN:VEVENT
DTSTART;TZID=Asia/Singapore:20291216T100000
DTEND;TZID=Asia/Singapore:20291216T111500
DTSTAMP:20260421T124939
CREATED:20250731T062932Z
LAST-MODIFIED:20250731T072107Z
UID:10000494-1892109600-1892114100@ionic.synology.me
SUMMARY:Worship Service – Sunday (English)
DESCRIPTION:
URL:https://ionic.synology.me/qbcnx3/event/worship-service-sunday-english/2029-12-16/
LOCATION:Agape Sanctuary (L3)\, 495 Margaret Drive\, Singapore\, 149305\, Singapore
CATEGORIES:English,Worship Service
ATTACH;FMTTYPE=image/jpeg:https://ionic.synology.me/qbcnx3/wp-content/uploads/2025/07/event-worshipservice-en-sun.jpg
END:VEVENT
BEGIN:VEVENT
DTSTART;TZID=Asia/Singapore:20291222T190000
DTEND;TZID=Asia/Singapore:20291222T201500
DTSTAMP:20260421T124939
CREATED:20250731T062610Z
LAST-MODIFIED:20250731T072101Z
UID:10000233-1892660400-1892664900@ionic.synology.me
SUMMARY:Worship Service - Saturday (English)
DESCRIPTION:
URL:https://ionic.synology.me/qbcnx3/event/worship-service-saturday-english/2029-12-22/
LOCATION:Agape Sanctuary (L3)\, 495 Margaret Drive\, Singapore\, 149305\, Singapore
CATEGORIES:English,Worship Service
ATTACH;FMTTYPE=image/jpeg:https://ionic.synology.me/qbcnx3/wp-content/uploads/2025/07/event-worshipservice-en-sat.jpg
END:VEVENT
BEGIN:VEVENT
DTSTART;TZID=Asia/Singapore:20291223T100000
DTEND;TZID=Asia/Singapore:20291223T111500
DTSTAMP:20260421T124939
CREATED:20250731T062932Z
LAST-MODIFIED:20250731T072107Z
UID:10000495-1892714400-1892718900@ionic.synology.me
SUMMARY:Worship Service – Sunday (English)
DESCRIPTION:
URL:https://ionic.synology.me/qbcnx3/event/worship-service-sunday-english/2029-12-23/
LOCATION:Agape Sanctuary (L3)\, 495 Margaret Drive\, Singapore\, 149305\, Singapore
CATEGORIES:English,Worship Service
ATTACH;FMTTYPE=image/jpeg:https://ionic.synology.me/qbcnx3/wp-content/uploads/2025/07/event-worshipservice-en-sun.jpg
END:VEVENT
END:VCALENDAR