BEGIN:VCALENDAR
VERSION:2.0
PRODID:-//Queenstown Baptist Church  女皇镇浸信教会 - ECPv6.15.20//NONSGML v1.0//EN
CALSCALE:GREGORIAN
METHOD:PUBLISH
X-WR-CALNAME:Queenstown Baptist Church  女皇镇浸信教会
X-ORIGINAL-URL:https://ionic.synology.me/qbcnx3
X-WR-CALDESC:Events for Queenstown Baptist Church  女皇镇浸信教会
REFRESH-INTERVAL;VALUE=DURATION:PT1H
X-Robots-Tag:noindex
X-PUBLISHED-TTL:PT1H
BEGIN:VTIMEZONE
TZID:Asia/Singapore
BEGIN:STANDARD
TZOFFSETFROM:+0800
TZOFFSETTO:+0800
TZNAME:+08
DTSTART:20280101T000000
END:STANDARD
END:VTIMEZONE
BEGIN:VEVENT
DTSTART;TZID=Asia/Singapore:20291006T190000
DTEND;TZID=Asia/Singapore:20291006T201500
DTSTAMP:20260423T115418
CREATED:20250731T062610Z
LAST-MODIFIED:20250731T072101Z
UID:10000222-1886007600-1886012100@ionic.synology.me
SUMMARY:Worship Service - Saturday (English)
DESCRIPTION:
URL:https://ionic.synology.me/qbcnx3/event/worship-service-saturday-english/2029-10-06/
LOCATION:Agape Sanctuary (L3)\, 495 Margaret Drive\, Singapore\, 149305\, Singapore
CATEGORIES:English,Worship Service
ATTACH;FMTTYPE=image/jpeg:https://ionic.synology.me/qbcnx3/wp-content/uploads/2025/07/event-worshipservice-en-sat.jpg
END:VEVENT
BEGIN:VEVENT
DTSTART;TZID=Asia/Singapore:20291013T190000
DTEND;TZID=Asia/Singapore:20291013T201500
DTSTAMP:20260423T115418
CREATED:20250731T062610Z
LAST-MODIFIED:20250731T072101Z
UID:10000223-1886612400-1886616900@ionic.synology.me
SUMMARY:Worship Service - Saturday (English)
DESCRIPTION:
URL:https://ionic.synology.me/qbcnx3/event/worship-service-saturday-english/2029-10-13/
LOCATION:Agape Sanctuary (L3)\, 495 Margaret Drive\, Singapore\, 149305\, Singapore
CATEGORIES:English,Worship Service
ATTACH;FMTTYPE=image/jpeg:https://ionic.synology.me/qbcnx3/wp-content/uploads/2025/07/event-worshipservice-en-sat.jpg
END:VEVENT
BEGIN:VEVENT
DTSTART;TZID=Asia/Singapore:20291020T190000
DTEND;TZID=Asia/Singapore:20291020T201500
DTSTAMP:20260423T115418
CREATED:20250731T062610Z
LAST-MODIFIED:20250731T072101Z
UID:10000224-1887217200-1887221700@ionic.synology.me
SUMMARY:Worship Service - Saturday (English)
DESCRIPTION:
URL:https://ionic.synology.me/qbcnx3/event/worship-service-saturday-english/2029-10-20/
LOCATION:Agape Sanctuary (L3)\, 495 Margaret Drive\, Singapore\, 149305\, Singapore
CATEGORIES:English,Worship Service
ATTACH;FMTTYPE=image/jpeg:https://ionic.synology.me/qbcnx3/wp-content/uploads/2025/07/event-worshipservice-en-sat.jpg
END:VEVENT
BEGIN:VEVENT
DTSTART;TZID=Asia/Singapore:20291027T190000
DTEND;TZID=Asia/Singapore:20291027T201500
DTSTAMP:20260423T115418
CREATED:20250731T062610Z
LAST-MODIFIED:20250731T072101Z
UID:10000225-1887822000-1887826500@ionic.synology.me
SUMMARY:Worship Service - Saturday (English)
DESCRIPTION:
URL:https://ionic.synology.me/qbcnx3/event/worship-service-saturday-english/2029-10-27/
LOCATION:Agape Sanctuary (L3)\, 495 Margaret Drive\, Singapore\, 149305\, Singapore
CATEGORIES:English,Worship Service
ATTACH;FMTTYPE=image/jpeg:https://ionic.synology.me/qbcnx3/wp-content/uploads/2025/07/event-worshipservice-en-sat.jpg
END:VEVENT
BEGIN:VEVENT
DTSTART;TZID=Asia/Singapore:20291103T190000
DTEND;TZID=Asia/Singapore:20291103T201500
DTSTAMP:20260423T115418
CREATED:20250731T062610Z
LAST-MODIFIED:20250731T072101Z
UID:10000226-1888426800-1888431300@ionic.synology.me
SUMMARY:Worship Service - Saturday (English)
DESCRIPTION:
URL:https://ionic.synology.me/qbcnx3/event/worship-service-saturday-english/2029-11-03/
LOCATION:Agape Sanctuary (L3)\, 495 Margaret Drive\, Singapore\, 149305\, Singapore
CATEGORIES:English,Worship Service
ATTACH;FMTTYPE=image/jpeg:https://ionic.synology.me/qbcnx3/wp-content/uploads/2025/07/event-worshipservice-en-sat.jpg
END:VEVENT
BEGIN:VEVENT
DTSTART;TZID=Asia/Singapore:20291110T190000
DTEND;TZID=Asia/Singapore:20291110T201500
DTSTAMP:20260423T115418
CREATED:20250731T062610Z
LAST-MODIFIED:20250731T072101Z
UID:10000227-1889031600-1889036100@ionic.synology.me
SUMMARY:Worship Service - Saturday (English)
DESCRIPTION:
URL:https://ionic.synology.me/qbcnx3/event/worship-service-saturday-english/2029-11-10/
LOCATION:Agape Sanctuary (L3)\, 495 Margaret Drive\, Singapore\, 149305\, Singapore
CATEGORIES:English,Worship Service
ATTACH;FMTTYPE=image/jpeg:https://ionic.synology.me/qbcnx3/wp-content/uploads/2025/07/event-worshipservice-en-sat.jpg
END:VEVENT
BEGIN:VEVENT
DTSTART;TZID=Asia/Singapore:20291117T190000
DTEND;TZID=Asia/Singapore:20291117T201500
DTSTAMP:20260423T115418
CREATED:20250731T062610Z
LAST-MODIFIED:20250731T072101Z
UID:10000228-1889636400-1889640900@ionic.synology.me
SUMMARY:Worship Service - Saturday (English)
DESCRIPTION:
URL:https://ionic.synology.me/qbcnx3/event/worship-service-saturday-english/2029-11-17/
LOCATION:Agape Sanctuary (L3)\, 495 Margaret Drive\, Singapore\, 149305\, Singapore
CATEGORIES:English,Worship Service
ATTACH;FMTTYPE=image/jpeg:https://ionic.synology.me/qbcnx3/wp-content/uploads/2025/07/event-worshipservice-en-sat.jpg
END:VEVENT
BEGIN:VEVENT
DTSTART;TZID=Asia/Singapore:20291124T190000
DTEND;TZID=Asia/Singapore:20291124T201500
DTSTAMP:20260423T115418
CREATED:20250731T062610Z
LAST-MODIFIED:20250731T072101Z
UID:10000229-1890241200-1890245700@ionic.synology.me
SUMMARY:Worship Service - Saturday (English)
DESCRIPTION:
URL:https://ionic.synology.me/qbcnx3/event/worship-service-saturday-english/2029-11-24/
LOCATION:Agape Sanctuary (L3)\, 495 Margaret Drive\, Singapore\, 149305\, Singapore
CATEGORIES:English,Worship Service
ATTACH;FMTTYPE=image/jpeg:https://ionic.synology.me/qbcnx3/wp-content/uploads/2025/07/event-worshipservice-en-sat.jpg
END:VEVENT
BEGIN:VEVENT
DTSTART;TZID=Asia/Singapore:20291201T190000
DTEND;TZID=Asia/Singapore:20291201T201500
DTSTAMP:20260423T115418
CREATED:20250731T062610Z
LAST-MODIFIED:20250731T072101Z
UID:10000230-1890846000-1890850500@ionic.synology.me
SUMMARY:Worship Service - Saturday (English)
DESCRIPTION:
URL:https://ionic.synology.me/qbcnx3/event/worship-service-saturday-english/2029-12-01/
LOCATION:Agape Sanctuary (L3)\, 495 Margaret Drive\, Singapore\, 149305\, Singapore
CATEGORIES:English,Worship Service
ATTACH;FMTTYPE=image/jpeg:https://ionic.synology.me/qbcnx3/wp-content/uploads/2025/07/event-worshipservice-en-sat.jpg
END:VEVENT
BEGIN:VEVENT
DTSTART;TZID=Asia/Singapore:20291208T190000
DTEND;TZID=Asia/Singapore:20291208T201500
DTSTAMP:20260423T115418
CREATED:20250731T062610Z
LAST-MODIFIED:20250731T072101Z
UID:10000231-1891450800-1891455300@ionic.synology.me
SUMMARY:Worship Service - Saturday (English)
DESCRIPTION:
URL:https://ionic.synology.me/qbcnx3/event/worship-service-saturday-english/2029-12-08/
LOCATION:Agape Sanctuary (L3)\, 495 Margaret Drive\, Singapore\, 149305\, Singapore
CATEGORIES:English,Worship Service
ATTACH;FMTTYPE=image/jpeg:https://ionic.synology.me/qbcnx3/wp-content/uploads/2025/07/event-worshipservice-en-sat.jpg
END:VEVENT
BEGIN:VEVENT
DTSTART;TZID=Asia/Singapore:20291215T190000
DTEND;TZID=Asia/Singapore:20291215T201500
DTSTAMP:20260423T115418
CREATED:20250731T062610Z
LAST-MODIFIED:20250731T072101Z
UID:10000232-1892055600-1892060100@ionic.synology.me
SUMMARY:Worship Service - Saturday (English)
DESCRIPTION:
URL:https://ionic.synology.me/qbcnx3/event/worship-service-saturday-english/2029-12-15/
LOCATION:Agape Sanctuary (L3)\, 495 Margaret Drive\, Singapore\, 149305\, Singapore
CATEGORIES:English,Worship Service
ATTACH;FMTTYPE=image/jpeg:https://ionic.synology.me/qbcnx3/wp-content/uploads/2025/07/event-worshipservice-en-sat.jpg
END:VEVENT
BEGIN:VEVENT
DTSTART;TZID=Asia/Singapore:20291222T190000
DTEND;TZID=Asia/Singapore:20291222T201500
DTSTAMP:20260423T115418
CREATED:20250731T062610Z
LAST-MODIFIED:20250731T072101Z
UID:10000233-1892660400-1892664900@ionic.synology.me
SUMMARY:Worship Service - Saturday (English)
DESCRIPTION:
URL:https://ionic.synology.me/qbcnx3/event/worship-service-saturday-english/2029-12-22/
LOCATION:Agape Sanctuary (L3)\, 495 Margaret Drive\, Singapore\, 149305\, Singapore
CATEGORIES:English,Worship Service
ATTACH;FMTTYPE=image/jpeg:https://ionic.synology.me/qbcnx3/wp-content/uploads/2025/07/event-worshipservice-en-sat.jpg
END:VEVENT
BEGIN:VEVENT
DTSTART;TZID=Asia/Singapore:20291229T190000
DTEND;TZID=Asia/Singapore:20291229T201500
DTSTAMP:20260423T115418
CREATED:20250731T062610Z
LAST-MODIFIED:20250731T072101Z
UID:10000234-1893265200-1893269700@ionic.synology.me
SUMMARY:Worship Service - Saturday (English)
DESCRIPTION:
URL:https://ionic.synology.me/qbcnx3/event/worship-service-saturday-english/2029-12-29/
LOCATION:Agape Sanctuary (L3)\, 495 Margaret Drive\, Singapore\, 149305\, Singapore
CATEGORIES:English,Worship Service
ATTACH;FMTTYPE=image/jpeg:https://ionic.synology.me/qbcnx3/wp-content/uploads/2025/07/event-worshipservice-en-sat.jpg
END:VEVENT
BEGIN:VEVENT
DTSTART;TZID=Asia/Singapore:20300105T190000
DTEND;TZID=Asia/Singapore:20300105T201500
DTSTAMP:20260423T115418
CREATED:20250731T062610Z
LAST-MODIFIED:20250731T072101Z
UID:10000235-1893870000-1893874500@ionic.synology.me
SUMMARY:Worship Service - Saturday (English)
DESCRIPTION:
URL:https://ionic.synology.me/qbcnx3/event/worship-service-saturday-english/2030-01-05/
LOCATION:Agape Sanctuary (L3)\, 495 Margaret Drive\, Singapore\, 149305\, Singapore
CATEGORIES:English,Worship Service
ATTACH;FMTTYPE=image/jpeg:https://ionic.synology.me/qbcnx3/wp-content/uploads/2025/07/event-worshipservice-en-sat.jpg
END:VEVENT
BEGIN:VEVENT
DTSTART;TZID=Asia/Singapore:20300112T190000
DTEND;TZID=Asia/Singapore:20300112T201500
DTSTAMP:20260423T115418
CREATED:20250731T062610Z
LAST-MODIFIED:20250731T072101Z
UID:10000236-1894474800-1894479300@ionic.synology.me
SUMMARY:Worship Service - Saturday (English)
DESCRIPTION:
URL:https://ionic.synology.me/qbcnx3/event/worship-service-saturday-english/2030-01-12/
LOCATION:Agape Sanctuary (L3)\, 495 Margaret Drive\, Singapore\, 149305\, Singapore
CATEGORIES:English,Worship Service
ATTACH;FMTTYPE=image/jpeg:https://ionic.synology.me/qbcnx3/wp-content/uploads/2025/07/event-worshipservice-en-sat.jpg
END:VEVENT
BEGIN:VEVENT
DTSTART;TZID=Asia/Singapore:20300119T190000
DTEND;TZID=Asia/Singapore:20300119T201500
DTSTAMP:20260423T115418
CREATED:20250731T062610Z
LAST-MODIFIED:20250731T072101Z
UID:10000237-1895079600-1895084100@ionic.synology.me
SUMMARY:Worship Service - Saturday (English)
DESCRIPTION:
URL:https://ionic.synology.me/qbcnx3/event/worship-service-saturday-english/2030-01-19/
LOCATION:Agape Sanctuary (L3)\, 495 Margaret Drive\, Singapore\, 149305\, Singapore
CATEGORIES:English,Worship Service
ATTACH;FMTTYPE=image/jpeg:https://ionic.synology.me/qbcnx3/wp-content/uploads/2025/07/event-worshipservice-en-sat.jpg
END:VEVENT
BEGIN:VEVENT
DTSTART;TZID=Asia/Singapore:20300126T190000
DTEND;TZID=Asia/Singapore:20300126T201500
DTSTAMP:20260423T115418
CREATED:20250731T062610Z
LAST-MODIFIED:20250731T072101Z
UID:10000238-1895684400-1895688900@ionic.synology.me
SUMMARY:Worship Service - Saturday (English)
DESCRIPTION:
URL:https://ionic.synology.me/qbcnx3/event/worship-service-saturday-english/2030-01-26/
LOCATION:Agape Sanctuary (L3)\, 495 Margaret Drive\, Singapore\, 149305\, Singapore
CATEGORIES:English,Worship Service
ATTACH;FMTTYPE=image/jpeg:https://ionic.synology.me/qbcnx3/wp-content/uploads/2025/07/event-worshipservice-en-sat.jpg
END:VEVENT
BEGIN:VEVENT
DTSTART;TZID=Asia/Singapore:20300202T190000
DTEND;TZID=Asia/Singapore:20300202T201500
DTSTAMP:20260423T115418
CREATED:20250731T062610Z
LAST-MODIFIED:20250731T072101Z
UID:10000239-1896289200-1896293700@ionic.synology.me
SUMMARY:Worship Service - Saturday (English)
DESCRIPTION:
URL:https://ionic.synology.me/qbcnx3/event/worship-service-saturday-english/2030-02-02/
LOCATION:Agape Sanctuary (L3)\, 495 Margaret Drive\, Singapore\, 149305\, Singapore
CATEGORIES:English,Worship Service
ATTACH;FMTTYPE=image/jpeg:https://ionic.synology.me/qbcnx3/wp-content/uploads/2025/07/event-worshipservice-en-sat.jpg
END:VEVENT
BEGIN:VEVENT
DTSTART;TZID=Asia/Singapore:20300209T190000
DTEND;TZID=Asia/Singapore:20300209T201500
DTSTAMP:20260423T115418
CREATED:20250731T062610Z
LAST-MODIFIED:20250731T072101Z
UID:10000240-1896894000-1896898500@ionic.synology.me
SUMMARY:Worship Service - Saturday (English)
DESCRIPTION:
URL:https://ionic.synology.me/qbcnx3/event/worship-service-saturday-english/2030-02-09/
LOCATION:Agape Sanctuary (L3)\, 495 Margaret Drive\, Singapore\, 149305\, Singapore
CATEGORIES:English,Worship Service
ATTACH;FMTTYPE=image/jpeg:https://ionic.synology.me/qbcnx3/wp-content/uploads/2025/07/event-worshipservice-en-sat.jpg
END:VEVENT
BEGIN:VEVENT
DTSTART;TZID=Asia/Singapore:20300216T190000
DTEND;TZID=Asia/Singapore:20300216T201500
DTSTAMP:20260423T115418
CREATED:20250731T062610Z
LAST-MODIFIED:20250731T072101Z
UID:10000241-1897498800-1897503300@ionic.synology.me
SUMMARY:Worship Service - Saturday (English)
DESCRIPTION:
URL:https://ionic.synology.me/qbcnx3/event/worship-service-saturday-english/2030-02-16/
LOCATION:Agape Sanctuary (L3)\, 495 Margaret Drive\, Singapore\, 149305\, Singapore
CATEGORIES:English,Worship Service
ATTACH;FMTTYPE=image/jpeg:https://ionic.synology.me/qbcnx3/wp-content/uploads/2025/07/event-worshipservice-en-sat.jpg
END:VEVENT
BEGIN:VEVENT
DTSTART;TZID=Asia/Singapore:20300223T190000
DTEND;TZID=Asia/Singapore:20300223T201500
DTSTAMP:20260423T115418
CREATED:20250731T062610Z
LAST-MODIFIED:20250731T072101Z
UID:10000242-1898103600-1898108100@ionic.synology.me
SUMMARY:Worship Service - Saturday (English)
DESCRIPTION:
URL:https://ionic.synology.me/qbcnx3/event/worship-service-saturday-english/2030-02-23/
LOCATION:Agape Sanctuary (L3)\, 495 Margaret Drive\, Singapore\, 149305\, Singapore
CATEGORIES:English,Worship Service
ATTACH;FMTTYPE=image/jpeg:https://ionic.synology.me/qbcnx3/wp-content/uploads/2025/07/event-worshipservice-en-sat.jpg
END:VEVENT
BEGIN:VEVENT
DTSTART;TZID=Asia/Singapore:20300302T190000
DTEND;TZID=Asia/Singapore:20300302T201500
DTSTAMP:20260423T115418
CREATED:20250731T062610Z
LAST-MODIFIED:20250731T072101Z
UID:10000243-1898708400-1898712900@ionic.synology.me
SUMMARY:Worship Service - Saturday (English)
DESCRIPTION:
URL:https://ionic.synology.me/qbcnx3/event/worship-service-saturday-english/2030-03-02/
LOCATION:Agape Sanctuary (L3)\, 495 Margaret Drive\, Singapore\, 149305\, Singapore
CATEGORIES:English,Worship Service
ATTACH;FMTTYPE=image/jpeg:https://ionic.synology.me/qbcnx3/wp-content/uploads/2025/07/event-worshipservice-en-sat.jpg
END:VEVENT
BEGIN:VEVENT
DTSTART;TZID=Asia/Singapore:20300309T190000
DTEND;TZID=Asia/Singapore:20300309T201500
DTSTAMP:20260423T115418
CREATED:20250731T062610Z
LAST-MODIFIED:20250731T072101Z
UID:10000244-1899313200-1899317700@ionic.synology.me
SUMMARY:Worship Service - Saturday (English)
DESCRIPTION:
URL:https://ionic.synology.me/qbcnx3/event/worship-service-saturday-english/2030-03-09/
LOCATION:Agape Sanctuary (L3)\, 495 Margaret Drive\, Singapore\, 149305\, Singapore
CATEGORIES:English,Worship Service
ATTACH;FMTTYPE=image/jpeg:https://ionic.synology.me/qbcnx3/wp-content/uploads/2025/07/event-worshipservice-en-sat.jpg
END:VEVENT
BEGIN:VEVENT
DTSTART;TZID=Asia/Singapore:20300316T190000
DTEND;TZID=Asia/Singapore:20300316T201500
DTSTAMP:20260423T115418
CREATED:20250731T062610Z
LAST-MODIFIED:20250731T072101Z
UID:10000245-1899918000-1899922500@ionic.synology.me
SUMMARY:Worship Service - Saturday (English)
DESCRIPTION:
URL:https://ionic.synology.me/qbcnx3/event/worship-service-saturday-english/2030-03-16/
LOCATION:Agape Sanctuary (L3)\, 495 Margaret Drive\, Singapore\, 149305\, Singapore
CATEGORIES:English,Worship Service
ATTACH;FMTTYPE=image/jpeg:https://ionic.synology.me/qbcnx3/wp-content/uploads/2025/07/event-worshipservice-en-sat.jpg
END:VEVENT
BEGIN:VEVENT
DTSTART;TZID=Asia/Singapore:20300323T190000
DTEND;TZID=Asia/Singapore:20300323T201500
DTSTAMP:20260423T115418
CREATED:20250731T062610Z
LAST-MODIFIED:20250731T072101Z
UID:10000246-1900522800-1900527300@ionic.synology.me
SUMMARY:Worship Service - Saturday (English)
DESCRIPTION:
URL:https://ionic.synology.me/qbcnx3/event/worship-service-saturday-english/2030-03-23/
LOCATION:Agape Sanctuary (L3)\, 495 Margaret Drive\, Singapore\, 149305\, Singapore
CATEGORIES:English,Worship Service
ATTACH;FMTTYPE=image/jpeg:https://ionic.synology.me/qbcnx3/wp-content/uploads/2025/07/event-worshipservice-en-sat.jpg
END:VEVENT
BEGIN:VEVENT
DTSTART;TZID=Asia/Singapore:20300330T190000
DTEND;TZID=Asia/Singapore:20300330T201500
DTSTAMP:20260423T115418
CREATED:20250731T062610Z
LAST-MODIFIED:20250731T072101Z
UID:10000247-1901127600-1901132100@ionic.synology.me
SUMMARY:Worship Service - Saturday (English)
DESCRIPTION:
URL:https://ionic.synology.me/qbcnx3/event/worship-service-saturday-english/2030-03-30/
LOCATION:Agape Sanctuary (L3)\, 495 Margaret Drive\, Singapore\, 149305\, Singapore
CATEGORIES:English,Worship Service
ATTACH;FMTTYPE=image/jpeg:https://ionic.synology.me/qbcnx3/wp-content/uploads/2025/07/event-worshipservice-en-sat.jpg
END:VEVENT
BEGIN:VEVENT
DTSTART;TZID=Asia/Singapore:20300406T190000
DTEND;TZID=Asia/Singapore:20300406T201500
DTSTAMP:20260423T115418
CREATED:20250731T062610Z
LAST-MODIFIED:20250731T072101Z
UID:10000248-1901732400-1901736900@ionic.synology.me
SUMMARY:Worship Service - Saturday (English)
DESCRIPTION:
URL:https://ionic.synology.me/qbcnx3/event/worship-service-saturday-english/2030-04-06/
LOCATION:Agape Sanctuary (L3)\, 495 Margaret Drive\, Singapore\, 149305\, Singapore
CATEGORIES:English,Worship Service
ATTACH;FMTTYPE=image/jpeg:https://ionic.synology.me/qbcnx3/wp-content/uploads/2025/07/event-worshipservice-en-sat.jpg
END:VEVENT
BEGIN:VEVENT
DTSTART;TZID=Asia/Singapore:20300413T190000
DTEND;TZID=Asia/Singapore:20300413T201500
DTSTAMP:20260423T115418
CREATED:20250731T062610Z
LAST-MODIFIED:20250731T072101Z
UID:10000249-1902337200-1902341700@ionic.synology.me
SUMMARY:Worship Service - Saturday (English)
DESCRIPTION:
URL:https://ionic.synology.me/qbcnx3/event/worship-service-saturday-english/2030-04-13/
LOCATION:Agape Sanctuary (L3)\, 495 Margaret Drive\, Singapore\, 149305\, Singapore
CATEGORIES:English,Worship Service
ATTACH;FMTTYPE=image/jpeg:https://ionic.synology.me/qbcnx3/wp-content/uploads/2025/07/event-worshipservice-en-sat.jpg
END:VEVENT
BEGIN:VEVENT
DTSTART;TZID=Asia/Singapore:20300420T190000
DTEND;TZID=Asia/Singapore:20300420T201500
DTSTAMP:20260423T115418
CREATED:20250731T062610Z
LAST-MODIFIED:20250731T072101Z
UID:10000250-1902942000-1902946500@ionic.synology.me
SUMMARY:Worship Service - Saturday (English)
DESCRIPTION:
URL:https://ionic.synology.me/qbcnx3/event/worship-service-saturday-english/2030-04-20/
LOCATION:Agape Sanctuary (L3)\, 495 Margaret Drive\, Singapore\, 149305\, Singapore
CATEGORIES:English,Worship Service
ATTACH;FMTTYPE=image/jpeg:https://ionic.synology.me/qbcnx3/wp-content/uploads/2025/07/event-worshipservice-en-sat.jpg
END:VEVENT
BEGIN:VEVENT
DTSTART;TZID=Asia/Singapore:20300427T190000
DTEND;TZID=Asia/Singapore:20300427T201500
DTSTAMP:20260423T115418
CREATED:20250731T062610Z
LAST-MODIFIED:20250731T072101Z
UID:10000251-1903546800-1903551300@ionic.synology.me
SUMMARY:Worship Service - Saturday (English)
DESCRIPTION:
URL:https://ionic.synology.me/qbcnx3/event/worship-service-saturday-english/2030-04-27/
LOCATION:Agape Sanctuary (L3)\, 495 Margaret Drive\, Singapore\, 149305\, Singapore
CATEGORIES:English,Worship Service
ATTACH;FMTTYPE=image/jpeg:https://ionic.synology.me/qbcnx3/wp-content/uploads/2025/07/event-worshipservice-en-sat.jpg
END:VEVENT
END:VCALENDAR